BEGIN:VCALENDAR
VERSION:2.0
PRODID:-//StellaCANIS - ECPv6.15.20//NONSGML v1.0//EN
CALSCALE:GREGORIAN
METHOD:PUBLISH
X-WR-CALNAME:StellaCANIS
X-ORIGINAL-URL:https://stellacanis.de
X-WR-CALDESC:Veranstaltungen für StellaCANIS
REFRESH-INTERVAL;VALUE=DURATION:PT1H
X-Robots-Tag:noindex
X-PUBLISHED-TTL:PT1H
BEGIN:VTIMEZONE
TZID:Europe/Berlin
BEGIN:DAYLIGHT
TZOFFSETFROM:+0100
TZOFFSETTO:+0200
TZNAME:CEST
DTSTART:20240331T010000
END:DAYLIGHT
BEGIN:STANDARD
TZOFFSETFROM:+0200
TZOFFSETTO:+0100
TZNAME:CET
DTSTART:20241027T010000
END:STANDARD
BEGIN:DAYLIGHT
TZOFFSETFROM:+0100
TZOFFSETTO:+0200
TZNAME:CEST
DTSTART:20250330T010000
END:DAYLIGHT
BEGIN:STANDARD
TZOFFSETFROM:+0200
TZOFFSETTO:+0100
TZNAME:CET
DTSTART:20251026T010000
END:STANDARD
BEGIN:DAYLIGHT
TZOFFSETFROM:+0100
TZOFFSETTO:+0200
TZNAME:CEST
DTSTART:20260329T010000
END:DAYLIGHT
BEGIN:STANDARD
TZOFFSETFROM:+0200
TZOFFSETTO:+0100
TZNAME:CET
DTSTART:20261025T010000
END:STANDARD
END:VTIMEZONE
BEGIN:VEVENT
DTSTART;TZID=Europe/Berlin:20250928T093000
DTEND;TZID=Europe/Berlin:20250928T130000
DTSTAMP:20260423T040626
CREATED:20241211T155812Z
LAST-MODIFIED:20250421T152754Z
UID:10001623-1759051800-1759064400@stellacanis.de
SUMMARY:Langer Staffel-Trail
DESCRIPTION:Für erfahrene Teams (mindestens B1) \nLanger Staffel-Trail mit Social Walk\nErlebe das spannende Abenteuer eines Staffeltrails. \nBesondere Herausforderung: Der Trail ist 24 Stunden alt und jeder Hund trailt bis zu 1000 Meter am Stück. \nInformationen und Treffpunkt hier
URL:https://stellacanis.de/event/langer-staffel-trail/
CATEGORIES:Spezielle Trails,Staffeltrail
ATTACH;FMTTYPE=image/jpeg:https://stellacanis.de/wp-content/uploads/2024/06/GabyundStella.jpg
ORGANIZER;CN="Gaby":MAILTO:gaby@stellacanis.de
END:VEVENT
BEGIN:VEVENT
DTSTART;TZID=Europe/Berlin:20250927T090000
DTEND;TZID=Europe/Berlin:20250927T120000
DTSTAMP:20260423T040626
CREATED:20250528T201420Z
LAST-MODIFIED:20250528T201420Z
UID:10001696-1758963600-1758974400@stellacanis.de
SUMMARY:Samstagstrail
DESCRIPTION:Der Veranstaltungsort wird über den Menüpunkt “Treffpunkte” bekannt gegeben (4 Tage vor dem Termin).
URL:https://stellacanis.de/event/samstagstrail-46/
CATEGORIES:Gruppentrails,SamstagMorgen
ATTACH;FMTTYPE=image/jpeg:https://stellacanis.de/wp-content/uploads/2023/07/cropped-CanisMajor-e1681226102726.jpg
ORGANIZER;CN="Gaby":MAILTO:gaby@stellacanis.de
END:VEVENT
BEGIN:VEVENT
DTSTART;TZID=Europe/Berlin:20250926T170000
DTEND;TZID=Europe/Berlin:20250926T200000
DTSTAMP:20260423T040626
CREATED:20250528T201337Z
LAST-MODIFIED:20250903T045701Z
UID:10001695-1758906000-1758916800@stellacanis.de
SUMMARY:Freitagstrail
DESCRIPTION:Der Veranstaltungsort wird über den Menüpunkt “Treffpunkte” bekannt gegeben (4 Tage vor dem Termin).
URL:https://stellacanis.de/event/freitagstrail-35/
CATEGORIES:Freitagstrail,Gruppentrails
ATTACH;FMTTYPE=image/jpeg:https://stellacanis.de/wp-content/uploads/2023/07/cropped-CanisMajor-e1681226102726.jpg
ORGANIZER;CN="Gaby":MAILTO:gaby@stellacanis.de
END:VEVENT
BEGIN:VEVENT
DTSTART;TZID=Europe/Berlin:20250925T170000
DTEND;TZID=Europe/Berlin:20250925T200000
DTSTAMP:20260423T040626
CREATED:20250528T201255Z
LAST-MODIFIED:20250903T045646Z
UID:10001694-1758819600-1758830400@stellacanis.de
SUMMARY:Donnerstagsstrail
DESCRIPTION:Der Veranstaltungsort wird über den Menüpunkt “Treffpunkte” bekannt gegeben (4 Tage vor dem Termin).
URL:https://stellacanis.de/event/donnerstagsstrail-68/
CATEGORIES:DonnerstagAbend,Gruppentrails
ATTACH;FMTTYPE=image/jpeg:https://stellacanis.de/wp-content/uploads/2023/07/cropped-CanisMajor-e1681226102726.jpg
ORGANIZER;CN="Gaby":MAILTO:gaby@stellacanis.de
END:VEVENT
BEGIN:VEVENT
DTSTART;TZID=Europe/Berlin:20250924T090000
DTEND;TZID=Europe/Berlin:20250924T120000
DTSTAMP:20260423T040626
CREATED:20250528T201214Z
LAST-MODIFIED:20250528T201214Z
UID:10001693-1758704400-1758715200@stellacanis.de
SUMMARY:Mittwochstrail
DESCRIPTION:Der Veranstaltungsort wird über den Menüpunkt “Treffpunkte” bekannt gegeben (4 Tage vor dem Termin).
URL:https://stellacanis.de/event/mittwochstrail-78/
CATEGORIES:Gruppentrails,MittwochMorgen
ATTACH;FMTTYPE=image/jpeg:https://stellacanis.de/wp-content/uploads/2023/07/cropped-cropped-CanisMajor-e1681226102726.jpg
ORGANIZER;CN="Gaby":MAILTO:gaby@stellacanis.de
END:VEVENT
BEGIN:VEVENT
DTSTART;TZID=Europe/Berlin:20250920T140000
DTEND;TZID=Europe/Berlin:20250920T180000
DTSTAMP:20260423T040626
CREATED:20250828T105507Z
LAST-MODIFIED:20250830T064416Z
UID:10001699-1758376800-1758391200@stellacanis.de
SUMMARY:Seminar:  Leinenhandling und Kreuzung
DESCRIPTION:Seminar:\nLeinenhandling und Kreuzung\nWeitere Informationen und die Adresse\, wo wir uns treffen hier klicken.
URL:https://stellacanis.de/event/seminar-leinenhandling-und-kreuzung-3/
CATEGORIES:Kurse,Leinenhandling
ATTACH;FMTTYPE=image/jpeg:https://stellacanis.de/wp-content/uploads/2024/02/WhatsApp-Image-2024-02-07-at-19.00.09.jpeg
ORGANIZER;CN="Gaby":MAILTO:gaby@stellacanis.de
END:VEVENT
BEGIN:VEVENT
DTSTART;TZID=Europe/Berlin:20250920T090000
DTEND;TZID=Europe/Berlin:20250920T120000
DTSTAMP:20260423T040626
CREATED:20250829T104259Z
LAST-MODIFIED:20250829T104259Z
UID:10001703-1758358800-1758369600@stellacanis.de
SUMMARY:Samstagstrail
DESCRIPTION:Der Veranstaltungsort wird über den Menüpunkt “Treffpunkte” bekannt gegeben (4 Tage vor dem Termin).
URL:https://stellacanis.de/event/samstagstrail-48/
CATEGORIES:Gruppentrails,SamstagMorgen
ATTACH;FMTTYPE=image/jpeg:https://stellacanis.de/wp-content/uploads/2023/07/cropped-CanisMajor-e1681226102726.jpg
ORGANIZER;CN="Gaby":MAILTO:gaby@stellacanis.de
END:VEVENT
BEGIN:VEVENT
DTSTART;TZID=Europe/Berlin:20250917T090000
DTEND;TZID=Europe/Berlin:20250917T120000
DTSTAMP:20260423T040626
CREATED:20250904T120853Z
LAST-MODIFIED:20250904T120853Z
UID:10001745-1758099600-1758110400@stellacanis.de
SUMMARY:Mittwochstrail
DESCRIPTION:Der Veranstaltungsort wird über den Menüpunkt “Treffpunkte” bekannt gegeben (4 Tage vor dem Termin).
URL:https://stellacanis.de/event/mittwochstrail-88/
CATEGORIES:Gruppentrails,MittwochMorgen
ATTACH;FMTTYPE=image/jpeg:https://stellacanis.de/wp-content/uploads/2023/07/cropped-cropped-CanisMajor-e1681226102726.jpg
ORGANIZER;CN="Gaby":MAILTO:gaby@stellacanis.de
END:VEVENT
BEGIN:VEVENT
DTSTART;TZID=Europe/Berlin:20250912T170000
DTEND;TZID=Europe/Berlin:20250912T200000
DTSTAMP:20260423T040626
CREATED:20250829T104111Z
LAST-MODIFIED:20250829T104133Z
UID:10001701-1757696400-1757707200@stellacanis.de
SUMMARY:Freitagstrail
DESCRIPTION:Der Veranstaltungsort wird über den Menüpunkt “Treffpunkte” bekannt gegeben (4 Tage vor dem Termin).
URL:https://stellacanis.de/event/freitagstrail-36/
CATEGORIES:Freitagstrail,Gruppentrails
ATTACH;FMTTYPE=image/jpeg:https://stellacanis.de/wp-content/uploads/2023/07/cropped-CanisMajor-e1681226102726.jpg
ORGANIZER;CN="Gaby":MAILTO:gaby@stellacanis.de
END:VEVENT
BEGIN:VEVENT
DTSTART;TZID=Europe/Berlin:20250911T170000
DTEND;TZID=Europe/Berlin:20250911T200000
DTSTAMP:20260423T040626
CREATED:20250829T104028Z
LAST-MODIFIED:20250829T104028Z
UID:10001700-1757610000-1757620800@stellacanis.de
SUMMARY:Donnerstagsstrail
DESCRIPTION:Der Veranstaltungsort wird über den Menüpunkt “Treffpunkte” bekannt gegeben (4 Tage vor dem Termin).
URL:https://stellacanis.de/event/donnerstagsstrail-58/
CATEGORIES:DonnerstagAbend,Gruppentrails
ATTACH;FMTTYPE=image/jpeg:https://stellacanis.de/wp-content/uploads/2023/07/cropped-CanisMajor-e1681226102726.jpg
ORGANIZER;CN="Gaby":MAILTO:gaby@stellacanis.de
END:VEVENT
BEGIN:VEVENT
DTSTART;TZID=Europe/Berlin:20250906T090000
DTEND;TZID=Europe/Berlin:20250906T120000
DTSTAMP:20260423T040626
CREATED:20250528T201114Z
LAST-MODIFIED:20250528T201114Z
UID:10001692-1757149200-1757160000@stellacanis.de
SUMMARY:Samstagstrail
DESCRIPTION:Der Veranstaltungsort wird über den Menüpunkt “Treffpunkte” bekannt gegeben (4 Tage vor dem Termin).
URL:https://stellacanis.de/event/samstagstrail-45/
CATEGORIES:Gruppentrails,SamstagMorgen
ATTACH;FMTTYPE=image/jpeg:https://stellacanis.de/wp-content/uploads/2023/07/cropped-CanisMajor-e1681226102726.jpg
ORGANIZER;CN="Gaby":MAILTO:gaby@stellacanis.de
END:VEVENT
BEGIN:VEVENT
DTSTART;TZID=Europe/Berlin:20250905T170000
DTEND;TZID=Europe/Berlin:20250905T200000
DTSTAMP:20260423T040626
CREATED:20250528T201038Z
LAST-MODIFIED:20250903T045604Z
UID:10001691-1757091600-1757102400@stellacanis.de
SUMMARY:Freitagstrail
DESCRIPTION:Der Veranstaltungsort wird über den Menüpunkt “Treffpunkte” bekannt gegeben (4 Tage vor dem Termin).
URL:https://stellacanis.de/event/freitagstrail-34/
CATEGORIES:Freitagstrail,Gruppentrails
ATTACH;FMTTYPE=image/jpeg:https://stellacanis.de/wp-content/uploads/2023/07/cropped-CanisMajor-e1681226102726.jpg
ORGANIZER;CN="Gaby":MAILTO:gaby@stellacanis.de
END:VEVENT
BEGIN:VEVENT
DTSTART;TZID=Europe/Berlin:20250904T170000
DTEND;TZID=Europe/Berlin:20250904T200000
DTSTAMP:20260423T040626
CREATED:20250528T200958Z
LAST-MODIFIED:20250903T045545Z
UID:10001690-1757005200-1757016000@stellacanis.de
SUMMARY:Donnerstagsstrail
DESCRIPTION:Der Veranstaltungsort wird über den Menüpunkt “Treffpunkte” bekannt gegeben (4 Tage vor dem Termin).
URL:https://stellacanis.de/event/donnerstagsstrail-67/
CATEGORIES:DonnerstagAbend,Gruppentrails
ATTACH;FMTTYPE=image/jpeg:https://stellacanis.de/wp-content/uploads/2023/07/cropped-CanisMajor-e1681226102726.jpg
ORGANIZER;CN="Gaby":MAILTO:gaby@stellacanis.de
END:VEVENT
BEGIN:VEVENT
DTSTART;TZID=Europe/Berlin:20250903T090000
DTEND;TZID=Europe/Berlin:20250903T120000
DTSTAMP:20260423T040626
CREATED:20250528T200920Z
LAST-MODIFIED:20250528T200920Z
UID:10001689-1756890000-1756900800@stellacanis.de
SUMMARY:Mittwochstrail
DESCRIPTION:Der Veranstaltungsort wird über den Menüpunkt “Treffpunkte” bekannt gegeben (4 Tage vor dem Termin).
URL:https://stellacanis.de/event/mittwochstrail-77/
CATEGORIES:Gruppentrails,MittwochMorgen
ATTACH;FMTTYPE=image/jpeg:https://stellacanis.de/wp-content/uploads/2023/07/cropped-cropped-CanisMajor-e1681226102726.jpg
ORGANIZER;CN="Gaby":MAILTO:gaby@stellacanis.de
END:VEVENT
BEGIN:VEVENT
DTSTART;TZID=Europe/Berlin:20250830T090000
DTEND;TZID=Europe/Berlin:20250830T120000
DTSTAMP:20260423T040626
CREATED:20250528T200718Z
LAST-MODIFIED:20250528T200718Z
UID:10001688-1756544400-1756555200@stellacanis.de
SUMMARY:Samstagstrail
DESCRIPTION:Der Veranstaltungsort wird über den Menüpunkt “Treffpunkte” bekannt gegeben (4 Tage vor dem Termin).
URL:https://stellacanis.de/event/samstagstrail-44/
CATEGORIES:Gruppentrails,SamstagMorgen
ATTACH;FMTTYPE=image/jpeg:https://stellacanis.de/wp-content/uploads/2023/07/cropped-CanisMajor-e1681226102726.jpg
ORGANIZER;CN="Gaby":MAILTO:gaby@stellacanis.de
END:VEVENT
BEGIN:VEVENT
DTSTART;TZID=Europe/Berlin:20250829T170000
DTEND;TZID=Europe/Berlin:20250829T200000
DTSTAMP:20260423T040626
CREATED:20250528T200636Z
LAST-MODIFIED:20250825T094942Z
UID:10001687-1756486800-1756497600@stellacanis.de
SUMMARY:Freitagstrail
DESCRIPTION:Der Veranstaltungsort wird über den Menüpunkt “Treffpunkte” bekannt gegeben (4 Tage vor dem Termin).
URL:https://stellacanis.de/event/freitagstrail-33/
CATEGORIES:Freitagstrail,Gruppentrails
ATTACH;FMTTYPE=image/jpeg:https://stellacanis.de/wp-content/uploads/2023/07/cropped-CanisMajor-e1681226102726.jpg
ORGANIZER;CN="Gaby":MAILTO:gaby@stellacanis.de
END:VEVENT
BEGIN:VEVENT
DTSTART;TZID=Europe/Berlin:20250823T090000
DTEND;TZID=Europe/Berlin:20250823T120000
DTSTAMP:20260423T040626
CREATED:20250528T200521Z
LAST-MODIFIED:20250528T200521Z
UID:10001686-1755939600-1755950400@stellacanis.de
SUMMARY:Samstagstrail
DESCRIPTION:Der Veranstaltungsort wird über den Menüpunkt “Treffpunkte” bekannt gegeben (4 Tage vor dem Termin).
URL:https://stellacanis.de/event/samstagstrail-43/
CATEGORIES:Gruppentrails,SamstagMorgen
ATTACH;FMTTYPE=image/jpeg:https://stellacanis.de/wp-content/uploads/2023/07/cropped-CanisMajor-e1681226102726.jpg
ORGANIZER;CN="Gaby":MAILTO:gaby@stellacanis.de
END:VEVENT
BEGIN:VEVENT
DTSTART;TZID=Europe/Berlin:20250822T170000
DTEND;TZID=Europe/Berlin:20250822T200000
DTSTAMP:20260423T040626
CREATED:20250528T200436Z
LAST-MODIFIED:20250818T095140Z
UID:10001685-1755882000-1755892800@stellacanis.de
SUMMARY:Freitagstrail
DESCRIPTION:Der Veranstaltungsort wird über den Menüpunkt “Treffpunkte” bekannt gegeben (4 Tage vor dem Termin).
URL:https://stellacanis.de/event/freitagstrail-32/
CATEGORIES:Freitagstrail,Gruppentrails
ATTACH;FMTTYPE=image/jpeg:https://stellacanis.de/wp-content/uploads/2023/07/cropped-CanisMajor-e1681226102726.jpg
ORGANIZER;CN="Gaby":MAILTO:gaby@stellacanis.de
END:VEVENT
BEGIN:VEVENT
DTSTART;TZID=Europe/Berlin:20250821T170000
DTEND;TZID=Europe/Berlin:20250821T200000
DTSTAMP:20260423T040626
CREATED:20250528T200353Z
LAST-MODIFIED:20250818T095156Z
UID:10001684-1755795600-1755806400@stellacanis.de
SUMMARY:Donnerstagsstrail
DESCRIPTION:Der Veranstaltungsort wird über den Menüpunkt “Treffpunkte” bekannt gegeben (4 Tage vor dem Termin).
URL:https://stellacanis.de/event/donnerstagsstrail-66/
CATEGORIES:DonnerstagAbend,Gruppentrails
ATTACH;FMTTYPE=image/jpeg:https://stellacanis.de/wp-content/uploads/2023/07/cropped-CanisMajor-e1681226102726.jpg
ORGANIZER;CN="Gaby":MAILTO:gaby@stellacanis.de
END:VEVENT
BEGIN:VEVENT
DTSTART;TZID=Europe/Berlin:20250820T090000
DTEND;TZID=Europe/Berlin:20250820T120000
DTSTAMP:20260423T040626
CREATED:20250528T200314Z
LAST-MODIFIED:20250528T200314Z
UID:10001683-1755680400-1755691200@stellacanis.de
SUMMARY:Mittwochstrail
DESCRIPTION:Der Veranstaltungsort wird über den Menüpunkt “Treffpunkte” bekannt gegeben (4 Tage vor dem Termin).
URL:https://stellacanis.de/event/mittwochstrail-76/
CATEGORIES:Gruppentrails,MittwochMorgen
ATTACH;FMTTYPE=image/jpeg:https://stellacanis.de/wp-content/uploads/2023/07/cropped-cropped-CanisMajor-e1681226102726.jpg
ORGANIZER;CN="Gaby":MAILTO:gaby@stellacanis.de
END:VEVENT
BEGIN:VEVENT
DTSTART;TZID=Europe/Berlin:20250816T083000
DTEND;TZID=Europe/Berlin:20250816T120000
DTSTAMP:20260423T040626
CREATED:20250528T200228Z
LAST-MODIFIED:20250810T150555Z
UID:10001682-1755333000-1755345600@stellacanis.de
SUMMARY:Samstagstrail
DESCRIPTION:Der Veranstaltungsort wird über den Menüpunkt “Treffpunkte” bekannt gegeben (4 Tage vor dem Termin).
URL:https://stellacanis.de/event/samstagstrail-42/
CATEGORIES:Gruppentrails,SamstagMorgen
ATTACH;FMTTYPE=image/jpeg:https://stellacanis.de/wp-content/uploads/2023/07/cropped-CanisMajor-e1681226102726.jpg
ORGANIZER;CN="Gaby":MAILTO:gaby@stellacanis.de
END:VEVENT
BEGIN:VEVENT
DTSTART;TZID=Europe/Berlin:20250815T173000
DTEND;TZID=Europe/Berlin:20250815T190000
DTSTAMP:20260423T040626
CREATED:20250528T200140Z
LAST-MODIFIED:20250810T150541Z
UID:10001681-1755279000-1755284400@stellacanis.de
SUMMARY:Freitagstrail
DESCRIPTION:Der Veranstaltungsort wird über den Menüpunkt “Treffpunkte” bekannt gegeben (4 Tage vor dem Termin).
URL:https://stellacanis.de/event/freitagstrail-31/
CATEGORIES:Freitagstrail,Gruppentrails
ATTACH;FMTTYPE=image/jpeg:https://stellacanis.de/wp-content/uploads/2023/07/cropped-CanisMajor-e1681226102726.jpg
ORGANIZER;CN="Gaby":MAILTO:gaby@stellacanis.de
END:VEVENT
BEGIN:VEVENT
DTSTART;TZID=Europe/Berlin:20250814T173000
DTEND;TZID=Europe/Berlin:20250814T190000
DTSTAMP:20260423T040626
CREATED:20250528T200053Z
LAST-MODIFIED:20250810T150527Z
UID:10001680-1755192600-1755198000@stellacanis.de
SUMMARY:Donnerstagsstrail
DESCRIPTION:Der Veranstaltungsort wird über den Menüpunkt “Treffpunkte” bekannt gegeben (4 Tage vor dem Termin).
URL:https://stellacanis.de/event/donnerstagsstrail-65/
CATEGORIES:DonnerstagAbend,Gruppentrails
ATTACH;FMTTYPE=image/jpeg:https://stellacanis.de/wp-content/uploads/2023/07/cropped-CanisMajor-e1681226102726.jpg
ORGANIZER;CN="Gaby":MAILTO:gaby@stellacanis.de
END:VEVENT
BEGIN:VEVENT
DTSTART;TZID=Europe/Berlin:20250813T083000
DTEND;TZID=Europe/Berlin:20250813T120000
DTSTAMP:20260423T040626
CREATED:20250528T200006Z
LAST-MODIFIED:20250810T150511Z
UID:10001679-1755073800-1755086400@stellacanis.de
SUMMARY:Mittwochstrail
DESCRIPTION:Der Veranstaltungsort wird über den Menüpunkt “Treffpunkte” bekannt gegeben (4 Tage vor dem Termin).
URL:https://stellacanis.de/event/mittwochstrail-75/
CATEGORIES:Gruppentrails,MittwochMorgen
ATTACH;FMTTYPE=image/jpeg:https://stellacanis.de/wp-content/uploads/2023/07/cropped-cropped-CanisMajor-e1681226102726.jpg
ORGANIZER;CN="Gaby":MAILTO:gaby@stellacanis.de
END:VEVENT
BEGIN:VEVENT
DTSTART;TZID=Europe/Berlin:20250809T090000
DTEND;TZID=Europe/Berlin:20250809T120000
DTSTAMP:20260423T040626
CREATED:20250528T195916Z
LAST-MODIFIED:20250528T195916Z
UID:10001678-1754730000-1754740800@stellacanis.de
SUMMARY:Samstagstrail
DESCRIPTION:Der Veranstaltungsort wird über den Menüpunkt “Treffpunkte” bekannt gegeben (4 Tage vor dem Termin).
URL:https://stellacanis.de/event/samstagstrail-41/
CATEGORIES:Gruppentrails,SamstagMorgen
ATTACH;FMTTYPE=image/jpeg:https://stellacanis.de/wp-content/uploads/2023/07/cropped-CanisMajor-e1681226102726.jpg
ORGANIZER;CN="Gaby":MAILTO:gaby@stellacanis.de
END:VEVENT
BEGIN:VEVENT
DTSTART;TZID=Europe/Berlin:20250808T150000
DTEND;TZID=Europe/Berlin:20250808T190000
DTSTAMP:20260423T040626
CREATED:20250528T195829Z
LAST-MODIFIED:20250528T195829Z
UID:10001677-1754665200-1754679600@stellacanis.de
SUMMARY:Freitagstrail
DESCRIPTION:Der Veranstaltungsort wird über den Menüpunkt “Treffpunkte” bekannt gegeben (4 Tage vor dem Termin).
URL:https://stellacanis.de/event/freitagstrail-30/
CATEGORIES:Freitagstrail,Gruppentrails
ATTACH;FMTTYPE=image/jpeg:https://stellacanis.de/wp-content/uploads/2023/07/cropped-CanisMajor-e1681226102726.jpg
ORGANIZER;CN="Gaby":MAILTO:gaby@stellacanis.de
END:VEVENT
BEGIN:VEVENT
DTSTART;TZID=Europe/Berlin:20250807T150000
DTEND;TZID=Europe/Berlin:20250807T190000
DTSTAMP:20260423T040626
CREATED:20250528T195736Z
LAST-MODIFIED:20250528T195736Z
UID:10001676-1754578800-1754593200@stellacanis.de
SUMMARY:Donnerstagsstrail
DESCRIPTION:Der Veranstaltungsort wird über den Menüpunkt “Treffpunkte” bekannt gegeben (4 Tage vor dem Termin).
URL:https://stellacanis.de/event/donnerstagsstrail-64/
CATEGORIES:DonnerstagAbend,Gruppentrails
ATTACH;FMTTYPE=image/jpeg:https://stellacanis.de/wp-content/uploads/2023/07/cropped-CanisMajor-e1681226102726.jpg
ORGANIZER;CN="Gaby":MAILTO:gaby@stellacanis.de
END:VEVENT
BEGIN:VEVENT
DTSTART;TZID=Europe/Berlin:20250806T090000
DTEND;TZID=Europe/Berlin:20250806T120000
DTSTAMP:20260423T040626
CREATED:20250528T195648Z
LAST-MODIFIED:20250528T195648Z
UID:10001675-1754470800-1754481600@stellacanis.de
SUMMARY:Mittwochstrail
DESCRIPTION:Der Veranstaltungsort wird über den Menüpunkt “Treffpunkte” bekannt gegeben (4 Tage vor dem Termin).
URL:https://stellacanis.de/event/mittwochstrail-74/
CATEGORIES:Gruppentrails,MittwochMorgen
ATTACH;FMTTYPE=image/jpeg:https://stellacanis.de/wp-content/uploads/2023/07/cropped-cropped-CanisMajor-e1681226102726.jpg
ORGANIZER;CN="Gaby":MAILTO:gaby@stellacanis.de
END:VEVENT
BEGIN:VEVENT
DTSTART;TZID=Europe/Berlin:20250802T090000
DTEND;TZID=Europe/Berlin:20250802T120000
DTSTAMP:20260423T040626
CREATED:20250528T195323Z
LAST-MODIFIED:20250528T195323Z
UID:10001674-1754125200-1754136000@stellacanis.de
SUMMARY:Samstagstrail
DESCRIPTION:Der Veranstaltungsort wird über den Menüpunkt “Treffpunkte” bekannt gegeben (4 Tage vor dem Termin).
URL:https://stellacanis.de/event/samstagstrail-40/
CATEGORIES:Gruppentrails,SamstagMorgen
ATTACH;FMTTYPE=image/jpeg:https://stellacanis.de/wp-content/uploads/2023/07/cropped-CanisMajor-e1681226102726.jpg
ORGANIZER;CN="Gaby":MAILTO:gaby@stellacanis.de
END:VEVENT
BEGIN:VEVENT
DTSTART;TZID=Europe/Berlin:20250801T170000
DTEND;TZID=Europe/Berlin:20250801T200000
DTSTAMP:20260423T040626
CREATED:20250528T195206Z
LAST-MODIFIED:20250727T104108Z
UID:10001673-1754067600-1754078400@stellacanis.de
SUMMARY:Freitagstrail
DESCRIPTION:Der Veranstaltungsort wird über den Menüpunkt “Treffpunkte” bekannt gegeben (4 Tage vor dem Termin).
URL:https://stellacanis.de/event/freitagstrail-29/
CATEGORIES:Freitagstrail,Gruppentrails
ATTACH;FMTTYPE=image/jpeg:https://stellacanis.de/wp-content/uploads/2023/07/cropped-CanisMajor-e1681226102726.jpg
ORGANIZER;CN="Gaby":MAILTO:gaby@stellacanis.de
END:VEVENT
END:VCALENDAR