BEGIN:VCALENDAR
VERSION:2.0
PRODID:-//StellaCANIS - ECPv6.15.20//NONSGML v1.0//EN
CALSCALE:GREGORIAN
METHOD:PUBLISH
X-ORIGINAL-URL:https://stellacanis.de
X-WR-CALDESC:Veranstaltungen für StellaCANIS
REFRESH-INTERVAL;VALUE=DURATION:PT1H
X-Robots-Tag:noindex
X-PUBLISHED-TTL:PT1H
BEGIN:VTIMEZONE
TZID:Europe/Berlin
BEGIN:DAYLIGHT
TZOFFSETFROM:+0100
TZOFFSETTO:+0200
TZNAME:CEST
DTSTART:20240331T010000
END:DAYLIGHT
BEGIN:STANDARD
TZOFFSETFROM:+0200
TZOFFSETTO:+0100
TZNAME:CET
DTSTART:20241027T010000
END:STANDARD
BEGIN:DAYLIGHT
TZOFFSETFROM:+0100
TZOFFSETTO:+0200
TZNAME:CEST
DTSTART:20250330T010000
END:DAYLIGHT
BEGIN:STANDARD
TZOFFSETFROM:+0200
TZOFFSETTO:+0100
TZNAME:CET
DTSTART:20251026T010000
END:STANDARD
BEGIN:DAYLIGHT
TZOFFSETFROM:+0100
TZOFFSETTO:+0200
TZNAME:CEST
DTSTART:20260329T010000
END:DAYLIGHT
BEGIN:STANDARD
TZOFFSETFROM:+0200
TZOFFSETTO:+0100
TZNAME:CET
DTSTART:20261025T010000
END:STANDARD
END:VTIMEZONE
BEGIN:VEVENT
DTSTART;TZID=Europe/Berlin:20251116T100000
DTEND;TZID=Europe/Berlin:20251116T140000
DTSTAMP:20260423T005740
CREATED:20251008T170306Z
LAST-MODIFIED:20251013T150438Z
UID:10001747-1763287200-1763301600@stellacanis.de
SUMMARY:City-Trail
DESCRIPTION:Wir trailen in Darmstadt! Ob im Parkhaus\, ob Indoor oder Outdoor\, ob im Luisencenter oder rund um den langen Langen-Ludwig – jeder Trail ist ein Abenteuer!\nDiese Veranstaltung richtet sich an erfahrene Teams (mind. B1).\nJedes Team erhält 2 Trails; Dauer ca. 3 Stunden; Preis: 65\,00 EUR \nDer genauer Treffpunkt wird über den Menüpunkt “Treffpunkte” bekannt gegeben (4 Tage vor dem Termin).
URL:https://stellacanis.de/event/city-trail/
CATEGORIES:City-Trail,Spezielle Trails
ATTACH;FMTTYPE=image/jpeg:https://stellacanis.de/wp-content/uploads/2025/10/Langer-Ludwig.jpg
ORGANIZER;CN="Gaby":MAILTO:gaby@stellacanis.de
END:VEVENT
BEGIN:VEVENT
DTSTART;TZID=Europe/Berlin:20251115T090000
DTEND;TZID=Europe/Berlin:20251115T120000
DTSTAMP:20260423T005740
CREATED:20250829T111248Z
LAST-MODIFIED:20250829T111947Z
UID:10001722-1763197200-1763208000@stellacanis.de
SUMMARY:Samstagstrail
DESCRIPTION:Der Veranstaltungsort wird über den Menüpunkt “Treffpunkte” bekannt gegeben (4 Tage vor dem Termin).
URL:https://stellacanis.de/event/samstagstrail-51/
CATEGORIES:Gruppentrails,SamstagMorgen
ATTACH;FMTTYPE=image/jpeg:https://stellacanis.de/wp-content/uploads/2023/07/cropped-CanisMajor-e1681226102726.jpg
ORGANIZER;CN="Gaby":MAILTO:gaby@stellacanis.de
END:VEVENT
BEGIN:VEVENT
DTSTART;TZID=Europe/Berlin:20251114T150000
DTEND;TZID=Europe/Berlin:20251114T190000
DTSTAMP:20260423T005740
CREATED:20250829T110738Z
LAST-MODIFIED:20250829T110738Z
UID:10001720-1763132400-1763146800@stellacanis.de
SUMMARY:Freitagstrail
DESCRIPTION:Der Veranstaltungsort wird über den Menüpunkt “Treffpunkte” bekannt gegeben (4 Tage vor dem Termin).
URL:https://stellacanis.de/event/freitagstrail-40/
CATEGORIES:Freitagstrail,Gruppentrails
ATTACH;FMTTYPE=image/jpeg:https://stellacanis.de/wp-content/uploads/2023/07/cropped-CanisMajor-e1681226102726.jpg
ORGANIZER;CN="Gaby":MAILTO:gaby@stellacanis.de
END:VEVENT
BEGIN:VEVENT
DTSTART;TZID=Europe/Berlin:20251113T150000
DTEND;TZID=Europe/Berlin:20251113T190000
DTSTAMP:20260423T005740
CREATED:20250829T110652Z
LAST-MODIFIED:20250829T110652Z
UID:10001719-1763046000-1763060400@stellacanis.de
SUMMARY:Donnerstagsstrail
DESCRIPTION:Der Veranstaltungsort wird über den Menüpunkt “Treffpunkte” bekannt gegeben (4 Tage vor dem Termin).
URL:https://stellacanis.de/event/donnerstagsstrail-74/
CATEGORIES:DonnerstagAbend,Gruppentrails
ATTACH;FMTTYPE=image/jpeg:https://stellacanis.de/wp-content/uploads/2023/07/cropped-CanisMajor-e1681226102726.jpg
ORGANIZER;CN="Gaby":MAILTO:gaby@stellacanis.de
END:VEVENT
BEGIN:VEVENT
DTSTART;TZID=Europe/Berlin:20251106T150000
DTEND;TZID=Europe/Berlin:20251106T190000
DTSTAMP:20260423T005740
CREATED:20250829T110421Z
LAST-MODIFIED:20250829T110421Z
UID:10001718-1762441200-1762455600@stellacanis.de
SUMMARY:Donnerstagsstrail
DESCRIPTION:Der Veranstaltungsort wird über den Menüpunkt “Treffpunkte” bekannt gegeben (4 Tage vor dem Termin).
URL:https://stellacanis.de/event/donnerstagsstrail-73/
CATEGORIES:DonnerstagAbend,Gruppentrails
ATTACH;FMTTYPE=image/jpeg:https://stellacanis.de/wp-content/uploads/2023/07/cropped-CanisMajor-e1681226102726.jpg
ORGANIZER;CN="Gaby":MAILTO:gaby@stellacanis.de
END:VEVENT
BEGIN:VEVENT
DTSTART;TZID=Europe/Berlin:20251105T090000
DTEND;TZID=Europe/Berlin:20251105T120000
DTSTAMP:20260423T005740
CREATED:20250829T110336Z
LAST-MODIFIED:20250829T110336Z
UID:10001717-1762333200-1762344000@stellacanis.de
SUMMARY:Mittwochstrail
DESCRIPTION:Der Veranstaltungsort wird über den Menüpunkt “Treffpunkte” bekannt gegeben (4 Tage vor dem Termin).
URL:https://stellacanis.de/event/mittwochstrail-82/
CATEGORIES:Gruppentrails,MittwochMorgen
ATTACH;FMTTYPE=image/jpeg:https://stellacanis.de/wp-content/uploads/2023/07/cropped-cropped-CanisMajor-e1681226102726.jpg
ORGANIZER;CN="Gaby":MAILTO:gaby@stellacanis.de
END:VEVENT
BEGIN:VEVENT
DTSTART;TZID=Europe/Berlin:20251101T100000
DTEND;TZID=Europe/Berlin:20251101T140000
DTSTAMP:20260423T005740
CREATED:20250529T192844Z
LAST-MODIFIED:20250529T192844Z
UID:10001698-1761991200-1762005600@stellacanis.de
SUMMARY:Indoor-Trail Rentkammer Erbach
DESCRIPTION:Wir suchen das Schlossgespenst! \nIndoor-Trail Erlebnis\nWir suchen das Schlossgespenst rund um das Erbacher Schloss und in der Rentkammer des Grafen zu Erbach \nInformationen und Treffpunkt hier
URL:https://stellacanis.de/event/indoor-trail-rentkammer-erbach/
CATEGORIES:Indoortrails,Spezielle Trails
ATTACH;FMTTYPE=image/jpeg:https://stellacanis.de/wp-content/uploads/2025/05/Schlosshof-erbach.jpg
ORGANIZER;CN="Gaby":MAILTO:gaby@stellacanis.de
END:VEVENT
BEGIN:VEVENT
DTSTART;TZID=Europe/Berlin:20251031T150000
DTEND;TZID=Europe/Berlin:20251031T190000
DTSTAMP:20260423T005740
CREATED:20250829T105808Z
LAST-MODIFIED:20250829T105808Z
UID:10001715-1761922800-1761937200@stellacanis.de
SUMMARY:Freitagstrail
DESCRIPTION:Der Veranstaltungsort wird über den Menüpunkt “Treffpunkte” bekannt gegeben (4 Tage vor dem Termin).
URL:https://stellacanis.de/event/freitagstrail-39/
CATEGORIES:Freitagstrail,Gruppentrails
ATTACH;FMTTYPE=image/jpeg:https://stellacanis.de/wp-content/uploads/2023/07/cropped-CanisMajor-e1681226102726.jpg
ORGANIZER;CN="Gaby":MAILTO:gaby@stellacanis.de
END:VEVENT
BEGIN:VEVENT
DTSTART;TZID=Europe/Berlin:20251030T150000
DTEND;TZID=Europe/Berlin:20251030T190000
DTSTAMP:20260423T005740
CREATED:20250829T105656Z
LAST-MODIFIED:20250829T105720Z
UID:10001714-1761836400-1761850800@stellacanis.de
SUMMARY:Donnerstagsstrail
DESCRIPTION:Der Veranstaltungsort wird über den Menüpunkt “Treffpunkte” bekannt gegeben (4 Tage vor dem Termin).
URL:https://stellacanis.de/event/donnerstagsstrail-71/
CATEGORIES:DonnerstagAbend,Gruppentrails
ATTACH;FMTTYPE=image/jpeg:https://stellacanis.de/wp-content/uploads/2023/07/cropped-CanisMajor-e1681226102726.jpg
ORGANIZER;CN="Gaby":MAILTO:gaby@stellacanis.de
END:VEVENT
BEGIN:VEVENT
DTSTART;TZID=Europe/Berlin:20251029T090000
DTEND;TZID=Europe/Berlin:20251029T120000
DTSTAMP:20260423T005740
CREATED:20250829T105550Z
LAST-MODIFIED:20250829T105550Z
UID:10001713-1761728400-1761739200@stellacanis.de
SUMMARY:Mittwochstrail
DESCRIPTION:Der Veranstaltungsort wird über den Menüpunkt “Treffpunkte” bekannt gegeben (4 Tage vor dem Termin).
URL:https://stellacanis.de/event/mittwochstrail-81/
CATEGORIES:Gruppentrails,MittwochMorgen
ATTACH;FMTTYPE=image/jpeg:https://stellacanis.de/wp-content/uploads/2023/07/cropped-cropped-CanisMajor-e1681226102726.jpg
ORGANIZER;CN="Gaby":MAILTO:gaby@stellacanis.de
END:VEVENT
BEGIN:VEVENT
DTSTART;TZID=Europe/Berlin:20251025T140000
DTEND;TZID=Europe/Berlin:20251025T180000
DTSTAMP:20260423T005740
CREATED:20251006T153719Z
LAST-MODIFIED:20251006T153719Z
UID:10001746-1761400800-1761415200@stellacanis.de
SUMMARY:Seminar:  Leinenhandling und Kreuzung
DESCRIPTION:Seminar:\nLeinenhandling und Kreuzung\nWeitere Informationen und die Adresse\, wo wir uns treffen hier klicken.
URL:https://stellacanis.de/event/seminar-leinenhandling-und-kreuzung-4/
CATEGORIES:Kurse,Leinenhandling
ATTACH;FMTTYPE=image/jpeg:https://stellacanis.de/wp-content/uploads/2024/02/WhatsApp-Image-2024-02-07-at-19.00.09.jpeg
ORGANIZER;CN="Gaby":MAILTO:gaby@stellacanis.de
END:VEVENT
BEGIN:VEVENT
DTSTART;TZID=Europe/Berlin:20251025T090000
DTEND;TZID=Europe/Berlin:20251025T120000
DTSTAMP:20260423T005740
CREATED:20250829T105449Z
LAST-MODIFIED:20250829T105449Z
UID:10001712-1761382800-1761393600@stellacanis.de
SUMMARY:Samstagstrail
DESCRIPTION:Der Veranstaltungsort wird über den Menüpunkt “Treffpunkte” bekannt gegeben (4 Tage vor dem Termin).
URL:https://stellacanis.de/event/samstagstrail-50/
CATEGORIES:Gruppentrails,SamstagMorgen
ATTACH;FMTTYPE=image/jpeg:https://stellacanis.de/wp-content/uploads/2023/07/cropped-CanisMajor-e1681226102726.jpg
ORGANIZER;CN="Gaby":MAILTO:gaby@stellacanis.de
END:VEVENT
BEGIN:VEVENT
DTSTART;TZID=Europe/Berlin:20251018T100000
DTEND;TZID=Europe/Berlin:20251018T140000
DTSTAMP:20260423T005740
CREATED:20250528T201917Z
LAST-MODIFIED:20250529T192232Z
UID:10001697-1760781600-1760796000@stellacanis.de
SUMMARY:Indoor-Trail Rentkammer Erbach
DESCRIPTION:Wir suchen das Schlossgespenst! \nIndoor-Trail Erlebnis\nWir suchen das Schlossgespenst rund um das Erbacher Schloss und in der Rentkammer des Grafen zu Erbach \nInformationen und Treffpunkt hier
URL:https://stellacanis.de/event/indoortrail-rentmeisterei-erbach/
CATEGORIES:Indoortrails,Spezielle Trails
ATTACH;FMTTYPE=image/jpeg:https://stellacanis.de/wp-content/uploads/2025/05/Schlosshof-erbach.jpg
ORGANIZER;CN="Gaby":MAILTO:gaby@stellacanis.de
END:VEVENT
BEGIN:VEVENT
DTSTART;TZID=Europe/Berlin:20251017T160000
DTEND;TZID=Europe/Berlin:20251017T190000
DTSTAMP:20260423T005740
CREATED:20250829T105319Z
LAST-MODIFIED:20250903T050016Z
UID:10001711-1760716800-1760727600@stellacanis.de
SUMMARY:Freitagstrail
DESCRIPTION:Der Veranstaltungsort wird über den Menüpunkt “Treffpunkte” bekannt gegeben (4 Tage vor dem Termin).
URL:https://stellacanis.de/event/freitagstrail-38/
CATEGORIES:Freitagstrail,Gruppentrails
ATTACH;FMTTYPE=image/jpeg:https://stellacanis.de/wp-content/uploads/2023/07/cropped-CanisMajor-e1681226102726.jpg
ORGANIZER;CN="Gaby":MAILTO:gaby@stellacanis.de
END:VEVENT
BEGIN:VEVENT
DTSTART;TZID=Europe/Berlin:20251016T160000
DTEND;TZID=Europe/Berlin:20251016T190000
DTSTAMP:20260423T005740
CREATED:20250829T105203Z
LAST-MODIFIED:20250829T105203Z
UID:10001710-1760630400-1760641200@stellacanis.de
SUMMARY:Donnerstagsstrail
DESCRIPTION:Der Veranstaltungsort wird über den Menüpunkt “Treffpunkte” bekannt gegeben (4 Tage vor dem Termin).
URL:https://stellacanis.de/event/donnerstagsstrail-70/
CATEGORIES:DonnerstagAbend,Gruppentrails
ATTACH;FMTTYPE=image/jpeg:https://stellacanis.de/wp-content/uploads/2023/07/cropped-CanisMajor-e1681226102726.jpg
ORGANIZER;CN="Gaby":MAILTO:gaby@stellacanis.de
END:VEVENT
BEGIN:VEVENT
DTSTART;TZID=Europe/Berlin:20251015T090000
DTEND;TZID=Europe/Berlin:20251015T120000
DTSTAMP:20260423T005740
CREATED:20250829T105037Z
LAST-MODIFIED:20250829T105037Z
UID:10001709-1760518800-1760529600@stellacanis.de
SUMMARY:Mittwochstrail
DESCRIPTION:Der Veranstaltungsort wird über den Menüpunkt “Treffpunkte” bekannt gegeben (4 Tage vor dem Termin).
URL:https://stellacanis.de/event/mittwochstrail-80/
CATEGORIES:Gruppentrails,MittwochMorgen
ATTACH;FMTTYPE=image/jpeg:https://stellacanis.de/wp-content/uploads/2023/07/cropped-cropped-CanisMajor-e1681226102726.jpg
ORGANIZER;CN="Gaby":MAILTO:gaby@stellacanis.de
END:VEVENT
BEGIN:VEVENT
DTSTART;TZID=Europe/Berlin:20251011T100000
DTEND;TZID=Europe/Berlin:20251011T130000
DTSTAMP:20260423T005740
CREATED:20250421T113850Z
LAST-MODIFIED:20250421T155658Z
UID:10001659-1760176800-1760187600@stellacanis.de
SUMMARY:Trailen am Bölle
DESCRIPTION:Diese Trail richtet sich an Teams\, die regelmäßig am Training teilnehmen. \nWeitere Informationen zum Event: Hier klicken.
URL:https://stellacanis.de/event/trailen-am-boelle/
CATEGORIES:Special Event,Stadion
ATTACH;FMTTYPE=image/jpeg:https://stellacanis.de/wp-content/uploads/2024/08/Boelle.jpg
ORGANIZER;CN="Gaby":MAILTO:gaby@stellacanis.de
END:VEVENT
BEGIN:VEVENT
DTSTART;TZID=Europe/Berlin:20251010T170000
DTEND;TZID=Europe/Berlin:20251010T200000
DTSTAMP:20260423T005740
CREATED:20250829T104936Z
LAST-MODIFIED:20250829T104936Z
UID:10001708-1760115600-1760126400@stellacanis.de
SUMMARY:Freitagstrail
DESCRIPTION:Der Veranstaltungsort wird über den Menüpunkt “Treffpunkte” bekannt gegeben (4 Tage vor dem Termin).
URL:https://stellacanis.de/event/freitagstrail-37/
CATEGORIES:Freitagstrail,Gruppentrails
ATTACH;FMTTYPE=image/jpeg:https://stellacanis.de/wp-content/uploads/2023/07/cropped-CanisMajor-e1681226102726.jpg
ORGANIZER;CN="Gaby":MAILTO:gaby@stellacanis.de
END:VEVENT
BEGIN:VEVENT
DTSTART;TZID=Europe/Berlin:20251009T170000
DTEND;TZID=Europe/Berlin:20251009T200000
DTSTAMP:20260423T005740
CREATED:20250829T105954Z
LAST-MODIFIED:20250903T045928Z
UID:10001716-1760029200-1760040000@stellacanis.de
SUMMARY:Donnerstagsstrail
DESCRIPTION:Der Veranstaltungsort wird über den Menüpunkt “Treffpunkte” bekannt gegeben (4 Tage vor dem Termin).
URL:https://stellacanis.de/event/donnerstagsstrail-72/
CATEGORIES:DonnerstagAbend,Gruppentrails
ATTACH;FMTTYPE=image/jpeg:https://stellacanis.de/wp-content/uploads/2023/07/cropped-CanisMajor-e1681226102726.jpg
ORGANIZER;CN="Gaby":MAILTO:gaby@stellacanis.de
END:VEVENT
BEGIN:VEVENT
DTSTART;TZID=Europe/Berlin:20251008T090000
DTEND;TZID=Europe/Berlin:20251008T120000
DTSTAMP:20260423T005740
CREATED:20250829T104806Z
LAST-MODIFIED:20250829T104806Z
UID:10001707-1759914000-1759924800@stellacanis.de
SUMMARY:Mittwochstrail
DESCRIPTION:Der Veranstaltungsort wird über den Menüpunkt “Treffpunkte” bekannt gegeben (4 Tage vor dem Termin).
URL:https://stellacanis.de/event/mittwochstrail-79/
CATEGORIES:Gruppentrails,MittwochMorgen
ATTACH;FMTTYPE=image/jpeg:https://stellacanis.de/wp-content/uploads/2023/07/cropped-cropped-CanisMajor-e1681226102726.jpg
ORGANIZER;CN="Gaby":MAILTO:gaby@stellacanis.de
END:VEVENT
BEGIN:VEVENT
DTSTART;TZID=Europe/Berlin:20251004T090000
DTEND;TZID=Europe/Berlin:20251004T120000
DTSTAMP:20260423T005740
CREATED:20250829T104640Z
LAST-MODIFIED:20250829T104640Z
UID:10001706-1759568400-1759579200@stellacanis.de
SUMMARY:Samstagstrail
DESCRIPTION:Der Veranstaltungsort wird über den Menüpunkt “Treffpunkte” bekannt gegeben (4 Tage vor dem Termin).
URL:https://stellacanis.de/event/samstagstrail-49/
CATEGORIES:Gruppentrails,SamstagMorgen
ATTACH;FMTTYPE=image/jpeg:https://stellacanis.de/wp-content/uploads/2023/07/cropped-CanisMajor-e1681226102726.jpg
ORGANIZER;CN="Gaby":MAILTO:gaby@stellacanis.de
END:VEVENT
BEGIN:VEVENT
DTSTART;TZID=Europe/Berlin:20251002T170000
DTEND;TZID=Europe/Berlin:20251002T200000
DTSTAMP:20260423T005740
CREATED:20250829T104548Z
LAST-MODIFIED:20250829T104548Z
UID:10001705-1759424400-1759435200@stellacanis.de
SUMMARY:Donnerstagsstrail
DESCRIPTION:Der Veranstaltungsort wird über den Menüpunkt “Treffpunkte” bekannt gegeben (4 Tage vor dem Termin).
URL:https://stellacanis.de/event/donnerstagsstrail-69/
CATEGORIES:DonnerstagAbend,Gruppentrails
ATTACH;FMTTYPE=image/jpeg:https://stellacanis.de/wp-content/uploads/2023/07/cropped-CanisMajor-e1681226102726.jpg
ORGANIZER;CN="Gaby":MAILTO:gaby@stellacanis.de
END:VEVENT
BEGIN:VEVENT
DTSTART;TZID=Europe/Berlin:20251001T090000
DTEND;TZID=Europe/Berlin:20251001T120000
DTSTAMP:20260423T005740
CREATED:20250829T104430Z
LAST-MODIFIED:20250829T104430Z
UID:10001704-1759309200-1759320000@stellacanis.de
SUMMARY:Mittwochstrail
DESCRIPTION:Der Veranstaltungsort wird über den Menüpunkt “Treffpunkte” bekannt gegeben (4 Tage vor dem Termin).
URL:https://stellacanis.de/event/mittwochstrail-66/
CATEGORIES:Gruppentrails,MittwochMorgen
ATTACH;FMTTYPE=image/jpeg:https://stellacanis.de/wp-content/uploads/2023/07/cropped-cropped-CanisMajor-e1681226102726.jpg
ORGANIZER;CN="Gaby":MAILTO:gaby@stellacanis.de
END:VEVENT
BEGIN:VEVENT
DTSTART;TZID=Europe/Berlin:20250930T100000
DTEND;TZID=Europe/Berlin:20250930T130000
DTSTAMP:20260423T005740
CREATED:20240804T123548Z
LAST-MODIFIED:20250830T182102Z
UID:10001551-1759226400-1759237200@stellacanis.de
SUMMARY:Trailen am Bölle
DESCRIPTION:Diese Trail richtet sich an Teams\, die regelmäßig am Training teilnehmen. \nWeitere Informationen zum Event: Hier klicken.
URL:https://stellacanis.de/event/trailen-im-boellenfalltor-stadion-2/
CATEGORIES:Special Event,Stadion
ATTACH;FMTTYPE=image/jpeg:https://stellacanis.de/wp-content/uploads/2024/08/Boelle.jpg
ORGANIZER;CN="Gaby":MAILTO:gaby@stellacanis.de
END:VEVENT
BEGIN:VEVENT
DTSTART;TZID=Europe/Berlin:20250928T093000
DTEND;TZID=Europe/Berlin:20250928T130000
DTSTAMP:20260423T005740
CREATED:20241211T155812Z
LAST-MODIFIED:20250421T152754Z
UID:10001623-1759051800-1759064400@stellacanis.de
SUMMARY:Langer Staffel-Trail
DESCRIPTION:Für erfahrene Teams (mindestens B1) \nLanger Staffel-Trail mit Social Walk\nErlebe das spannende Abenteuer eines Staffeltrails. \nBesondere Herausforderung: Der Trail ist 24 Stunden alt und jeder Hund trailt bis zu 1000 Meter am Stück. \nInformationen und Treffpunkt hier
URL:https://stellacanis.de/event/langer-staffel-trail/
CATEGORIES:Spezielle Trails,Staffeltrail
ATTACH;FMTTYPE=image/jpeg:https://stellacanis.de/wp-content/uploads/2024/06/GabyundStella.jpg
ORGANIZER;CN="Gaby":MAILTO:gaby@stellacanis.de
END:VEVENT
BEGIN:VEVENT
DTSTART;TZID=Europe/Berlin:20250927T090000
DTEND;TZID=Europe/Berlin:20250927T120000
DTSTAMP:20260423T005740
CREATED:20250528T201420Z
LAST-MODIFIED:20250528T201420Z
UID:10001696-1758963600-1758974400@stellacanis.de
SUMMARY:Samstagstrail
DESCRIPTION:Der Veranstaltungsort wird über den Menüpunkt “Treffpunkte” bekannt gegeben (4 Tage vor dem Termin).
URL:https://stellacanis.de/event/samstagstrail-46/
CATEGORIES:Gruppentrails,SamstagMorgen
ATTACH;FMTTYPE=image/jpeg:https://stellacanis.de/wp-content/uploads/2023/07/cropped-CanisMajor-e1681226102726.jpg
ORGANIZER;CN="Gaby":MAILTO:gaby@stellacanis.de
END:VEVENT
BEGIN:VEVENT
DTSTART;TZID=Europe/Berlin:20250926T170000
DTEND;TZID=Europe/Berlin:20250926T200000
DTSTAMP:20260423T005740
CREATED:20250528T201337Z
LAST-MODIFIED:20250903T045701Z
UID:10001695-1758906000-1758916800@stellacanis.de
SUMMARY:Freitagstrail
DESCRIPTION:Der Veranstaltungsort wird über den Menüpunkt “Treffpunkte” bekannt gegeben (4 Tage vor dem Termin).
URL:https://stellacanis.de/event/freitagstrail-35/
CATEGORIES:Freitagstrail,Gruppentrails
ATTACH;FMTTYPE=image/jpeg:https://stellacanis.de/wp-content/uploads/2023/07/cropped-CanisMajor-e1681226102726.jpg
ORGANIZER;CN="Gaby":MAILTO:gaby@stellacanis.de
END:VEVENT
BEGIN:VEVENT
DTSTART;TZID=Europe/Berlin:20250925T170000
DTEND;TZID=Europe/Berlin:20250925T200000
DTSTAMP:20260423T005740
CREATED:20250528T201255Z
LAST-MODIFIED:20250903T045646Z
UID:10001694-1758819600-1758830400@stellacanis.de
SUMMARY:Donnerstagsstrail
DESCRIPTION:Der Veranstaltungsort wird über den Menüpunkt “Treffpunkte” bekannt gegeben (4 Tage vor dem Termin).
URL:https://stellacanis.de/event/donnerstagsstrail-68/
CATEGORIES:DonnerstagAbend,Gruppentrails
ATTACH;FMTTYPE=image/jpeg:https://stellacanis.de/wp-content/uploads/2023/07/cropped-CanisMajor-e1681226102726.jpg
ORGANIZER;CN="Gaby":MAILTO:gaby@stellacanis.de
END:VEVENT
BEGIN:VEVENT
DTSTART;TZID=Europe/Berlin:20250924T090000
DTEND;TZID=Europe/Berlin:20250924T120000
DTSTAMP:20260423T005740
CREATED:20250528T201214Z
LAST-MODIFIED:20250528T201214Z
UID:10001693-1758704400-1758715200@stellacanis.de
SUMMARY:Mittwochstrail
DESCRIPTION:Der Veranstaltungsort wird über den Menüpunkt “Treffpunkte” bekannt gegeben (4 Tage vor dem Termin).
URL:https://stellacanis.de/event/mittwochstrail-78/
CATEGORIES:Gruppentrails,MittwochMorgen
ATTACH;FMTTYPE=image/jpeg:https://stellacanis.de/wp-content/uploads/2023/07/cropped-cropped-CanisMajor-e1681226102726.jpg
ORGANIZER;CN="Gaby":MAILTO:gaby@stellacanis.de
END:VEVENT
BEGIN:VEVENT
DTSTART;TZID=Europe/Berlin:20250920T140000
DTEND;TZID=Europe/Berlin:20250920T180000
DTSTAMP:20260423T005740
CREATED:20250828T105507Z
LAST-MODIFIED:20250830T064416Z
UID:10001699-1758376800-1758391200@stellacanis.de
SUMMARY:Seminar:  Leinenhandling und Kreuzung
DESCRIPTION:Seminar:\nLeinenhandling und Kreuzung\nWeitere Informationen und die Adresse\, wo wir uns treffen hier klicken.
URL:https://stellacanis.de/event/seminar-leinenhandling-und-kreuzung-3/
CATEGORIES:Kurse,Leinenhandling
ATTACH;FMTTYPE=image/jpeg:https://stellacanis.de/wp-content/uploads/2024/02/WhatsApp-Image-2024-02-07-at-19.00.09.jpeg
ORGANIZER;CN="Gaby":MAILTO:gaby@stellacanis.de
END:VEVENT
END:VCALENDAR