BEGIN:VCALENDAR
VERSION:2.0
PRODID:-//StellaCANIS - ECPv6.15.20//NONSGML v1.0//EN
CALSCALE:GREGORIAN
METHOD:PUBLISH
X-ORIGINAL-URL:https://stellacanis.de
X-WR-CALDESC:Veranstaltungen für StellaCANIS
REFRESH-INTERVAL;VALUE=DURATION:PT1H
X-Robots-Tag:noindex
X-PUBLISHED-TTL:PT1H
BEGIN:VTIMEZONE
TZID:Europe/Berlin
BEGIN:DAYLIGHT
TZOFFSETFROM:+0100
TZOFFSETTO:+0200
TZNAME:CEST
DTSTART:20250330T010000
END:DAYLIGHT
BEGIN:STANDARD
TZOFFSETFROM:+0200
TZOFFSETTO:+0100
TZNAME:CET
DTSTART:20251026T010000
END:STANDARD
BEGIN:DAYLIGHT
TZOFFSETFROM:+0100
TZOFFSETTO:+0200
TZNAME:CEST
DTSTART:20260329T010000
END:DAYLIGHT
BEGIN:STANDARD
TZOFFSETFROM:+0200
TZOFFSETTO:+0100
TZNAME:CET
DTSTART:20261025T010000
END:STANDARD
BEGIN:DAYLIGHT
TZOFFSETFROM:+0100
TZOFFSETTO:+0200
TZNAME:CEST
DTSTART:20270328T010000
END:DAYLIGHT
BEGIN:STANDARD
TZOFFSETFROM:+0200
TZOFFSETTO:+0100
TZNAME:CET
DTSTART:20271031T010000
END:STANDARD
END:VTIMEZONE
BEGIN:VEVENT
DTSTART;TZID=Europe/Berlin:20261109T080000
DTEND;TZID=Europe/Berlin:20261109T180000
DTSTAMP:20260422T195612
CREATED:20260202T093705Z
LAST-MODIFIED:20260224T083508Z
UID:10001820-1794211200-1794247200@stellacanis.de
SUMMARY:Intensiv-Mantrailing-Urlaub auf Texel mit StellaCANIS
DESCRIPTION:Eine ganze Woche Mantrailing\, ach wäre das schön! \nErfülle dir diesen Traum und komm mit auf die wunderschöne niederländische Insel Texel. Erlebe abwechslungsreiche und spannende Trail in der fantastischen Natur\, in herrlichen Ortschaften\, dem Hafen\, den Dünen und Wäldern! \nIn dieser entspannten Urlaubsatmosphäre bekommst du den Kopf frei und du kannst dich so richtig entspannt auf das Trailen konzentrieren! \n>>> \nHier klicken für weitere Informationen und Buchung. \n<<<
URL:https://stellacanis.de/event/intensiv-mantrailing-urlaub-auf-texel-mit-stellacanis-9/
CATEGORIES:Spezielle Trails,Texel
ATTACH;FMTTYPE=image/jpeg:https://stellacanis.de/wp-content/uploads/2025/10/Texel-Ausgebucht.jpg
ORGANIZER;CN="Gaby":MAILTO:gaby@stellacanis.de
END:VEVENT
BEGIN:VEVENT
DTSTART;TZID=Europe/Berlin:20261110T080000
DTEND;TZID=Europe/Berlin:20261110T180000
DTSTAMP:20260422T195612
CREATED:20260202T093716Z
LAST-MODIFIED:20260224T082843Z
UID:10001821-1794297600-1794333600@stellacanis.de
SUMMARY:Intensiv-Mantrailing-Urlaub auf Texel mit StellaCANIS
DESCRIPTION:Eine ganze Woche Mantrailing\, ach wäre das schön! \nErfülle dir diesen Traum und komm mit auf die wunderschöne niederländische Insel Texel. Erlebe abwechslungsreiche und spannende Trail in der fantastischen Natur\, in herrlichen Ortschaften\, dem Hafen\, den Dünen und Wäldern! \nIn dieser entspannten Urlaubsatmosphäre bekommst du den Kopf frei und du kannst dich so richtig entspannt auf das Trailen konzentrieren! \n>>> \nHier klicken für weitere Informationen und Buchung. \n<<<
URL:https://stellacanis.de/event/intensiv-mantrailing-urlaub-auf-texel-mit-stellacanis-10/
CATEGORIES:Spezielle Trails,Texel
ATTACH;FMTTYPE=image/jpeg:https://stellacanis.de/wp-content/uploads/2025/10/Texel-Ausgebucht.jpg
ORGANIZER;CN="Gaby":MAILTO:gaby@stellacanis.de
END:VEVENT
BEGIN:VEVENT
DTSTART;TZID=Europe/Berlin:20261111T080000
DTEND;TZID=Europe/Berlin:20261111T180000
DTSTAMP:20260422T195612
CREATED:20260202T093728Z
LAST-MODIFIED:20260224T083547Z
UID:10001822-1794384000-1794420000@stellacanis.de
SUMMARY:Intensiv-Mantrailing-Urlaub auf Texel mit StellaCANIS
DESCRIPTION:Eine ganze Woche Mantrailing\, ach wäre das schön! \nErfülle dir diesen Traum und komm mit auf die wunderschöne niederländische Insel Texel. Erlebe abwechslungsreiche und spannende Trail in der fantastischen Natur\, in herrlichen Ortschaften\, dem Hafen\, den Dünen und Wäldern! \nIn dieser entspannten Urlaubsatmosphäre bekommst du den Kopf frei und du kannst dich so richtig entspannt auf das Trailen konzentrieren! \n>>> \nHier klicken für weitere Informationen und Buchung. \n<<<
URL:https://stellacanis.de/event/intensiv-mantrailing-urlaub-auf-texel-mit-stellacanis-11/
CATEGORIES:Spezielle Trails,Texel
ATTACH;FMTTYPE=image/jpeg:https://stellacanis.de/wp-content/uploads/2025/10/Texel-Ausgebucht.jpg
ORGANIZER;CN="Gaby":MAILTO:gaby@stellacanis.de
END:VEVENT
BEGIN:VEVENT
DTSTART;TZID=Europe/Berlin:20261112T080000
DTEND;TZID=Europe/Berlin:20261112T180000
DTSTAMP:20260422T195612
CREATED:20260202T093742Z
LAST-MODIFIED:20260224T083557Z
UID:10001823-1794470400-1794506400@stellacanis.de
SUMMARY:Intensiv-Mantrailing-Urlaub auf Texel mit StellaCANIS
DESCRIPTION:Eine ganze Woche Mantrailing\, ach wäre das schön! \nErfülle dir diesen Traum und komm mit auf die wunderschöne niederländische Insel Texel. Erlebe abwechslungsreiche und spannende Trail in der fantastischen Natur\, in herrlichen Ortschaften\, dem Hafen\, den Dünen und Wäldern! \nIn dieser entspannten Urlaubsatmosphäre bekommst du den Kopf frei und du kannst dich so richtig entspannt auf das Trailen konzentrieren! \n>>> \nHier klicken für weitere Informationen und Buchung. \n<<<
URL:https://stellacanis.de/event/intensiv-mantrailing-urlaub-auf-texel-mit-stellacanis-12/
CATEGORIES:Spezielle Trails,Texel
ATTACH;FMTTYPE=image/jpeg:https://stellacanis.de/wp-content/uploads/2025/10/Texel-Ausgebucht.jpg
ORGANIZER;CN="Gaby":MAILTO:gaby@stellacanis.de
END:VEVENT
END:VCALENDAR