BEGIN:VCALENDAR
VERSION:2.0
PRODID:-//StellaCANIS - ECPv6.15.20//NONSGML v1.0//EN
CALSCALE:GREGORIAN
METHOD:PUBLISH
X-ORIGINAL-URL:https://stellacanis.de
X-WR-CALDESC:Veranstaltungen für StellaCANIS
REFRESH-INTERVAL;VALUE=DURATION:PT1H
X-Robots-Tag:noindex
X-PUBLISHED-TTL:PT1H
BEGIN:VTIMEZONE
TZID:Europe/Berlin
BEGIN:DAYLIGHT
TZOFFSETFROM:+0100
TZOFFSETTO:+0200
TZNAME:CEST
DTSTART:20240331T010000
END:DAYLIGHT
BEGIN:STANDARD
TZOFFSETFROM:+0200
TZOFFSETTO:+0100
TZNAME:CET
DTSTART:20241027T010000
END:STANDARD
BEGIN:DAYLIGHT
TZOFFSETFROM:+0100
TZOFFSETTO:+0200
TZNAME:CEST
DTSTART:20250330T010000
END:DAYLIGHT
BEGIN:STANDARD
TZOFFSETFROM:+0200
TZOFFSETTO:+0100
TZNAME:CET
DTSTART:20251026T010000
END:STANDARD
BEGIN:DAYLIGHT
TZOFFSETFROM:+0100
TZOFFSETTO:+0200
TZNAME:CEST
DTSTART:20260329T010000
END:DAYLIGHT
BEGIN:STANDARD
TZOFFSETFROM:+0200
TZOFFSETTO:+0100
TZNAME:CET
DTSTART:20261025T010000
END:STANDARD
BEGIN:DAYLIGHT
TZOFFSETFROM:+0100
TZOFFSETTO:+0200
TZNAME:CEST
DTSTART:20270328T010000
END:DAYLIGHT
BEGIN:STANDARD
TZOFFSETFROM:+0200
TZOFFSETTO:+0100
TZNAME:CET
DTSTART:20271031T010000
END:STANDARD
END:VTIMEZONE
BEGIN:VEVENT
DTSTART;TZID=Europe/Berlin:20260212T150000
DTEND;TZID=Europe/Berlin:20260212T190000
DTSTAMP:20260422T195516
CREATED:20251201T170114Z
LAST-MODIFIED:20251201T170114Z
UID:10001767-1770908400-1770922800@stellacanis.de
SUMMARY:Donnerstagsstrail
DESCRIPTION:Der Veranstaltungsort wird über den Menüpunkt “Treffpunkte” bekannt gegeben (4 Tage vor dem Termin).
URL:https://stellacanis.de/event/donnerstagsstrail-84/
CATEGORIES:DonnerstagAbend,Gruppentrails
ATTACH;FMTTYPE=image/jpeg:https://stellacanis.de/wp-content/uploads/2023/07/cropped-CanisMajor-e1681226102726.jpg
ORGANIZER;CN="Gaby":MAILTO:gaby@stellacanis.de
END:VEVENT
BEGIN:VEVENT
DTSTART;TZID=Europe/Berlin:20260211T090000
DTEND;TZID=Europe/Berlin:20260211T120000
DTSTAMP:20260422T195516
CREATED:20251201T170041Z
LAST-MODIFIED:20251201T170041Z
UID:10001766-1770800400-1770811200@stellacanis.de
SUMMARY:Mittwochstrail
DESCRIPTION:Der Veranstaltungsort wird über den Menüpunkt “Treffpunkte” bekannt gegeben (4 Tage vor dem Termin).
URL:https://stellacanis.de/event/mittwochstrail-93/
CATEGORIES:Gruppentrails,MittwochMorgen
ATTACH;FMTTYPE=image/jpeg:https://stellacanis.de/wp-content/uploads/2023/07/cropped-cropped-CanisMajor-e1681226102726.jpg
ORGANIZER;CN="Gaby":MAILTO:gaby@stellacanis.de
END:VEVENT
BEGIN:VEVENT
DTSTART;TZID=Europe/Berlin:20260207T130000
DTEND;TZID=Europe/Berlin:20260207T160000
DTSTAMP:20260422T195516
CREATED:20260125T141015Z
LAST-MODIFIED:20260125T145104Z
UID:10001809-1770469200-1770480000@stellacanis.de
SUMMARY:Samstagstrail-Beginner
DESCRIPTION:Der Veranstaltungsort wird über den Menüpunkt “Treffpunkte” bekannt gegeben (4 Tage vor dem Termin). \nEs gelten die allgemeinen Geschäftsbedingungen (AGB). \n 
URL:https://stellacanis.de/event/samstagstrail-beginner/
CATEGORIES:Gruppentrails,Samstag-Beginner
ATTACH;FMTTYPE=image/png:https://stellacanis.de/wp-content/uploads/2026/01/Beginner-3.png
ORGANIZER;CN="Gaby":MAILTO:gaby@stellacanis.de
END:VEVENT
BEGIN:VEVENT
DTSTART;TZID=Europe/Berlin:20260207T090000
DTEND;TZID=Europe/Berlin:20260207T120000
DTSTAMP:20260422T195516
CREATED:20251201T165924Z
LAST-MODIFIED:20251201T165924Z
UID:10001765-1770454800-1770465600@stellacanis.de
SUMMARY:Samstagstrail
DESCRIPTION:Der Veranstaltungsort wird über den Menüpunkt “Treffpunkte” bekannt gegeben (4 Tage vor dem Termin).
URL:https://stellacanis.de/event/samstagstrail-57/
CATEGORIES:Gruppentrails,SamstagMorgen
ATTACH;FMTTYPE=image/jpeg:https://stellacanis.de/wp-content/uploads/2023/07/cropped-CanisMajor-e1681226102726.jpg
ORGANIZER;CN="Gaby":MAILTO:gaby@stellacanis.de
END:VEVENT
BEGIN:VEVENT
DTSTART;TZID=Europe/Berlin:20260206T150000
DTEND;TZID=Europe/Berlin:20260206T190000
DTSTAMP:20260422T195516
CREATED:20251201T165750Z
LAST-MODIFIED:20251201T165750Z
UID:10001764-1770390000-1770404400@stellacanis.de
SUMMARY:Freitagstrail
DESCRIPTION:Der Veranstaltungsort wird über den Menüpunkt “Treffpunkte” bekannt gegeben (4 Tage vor dem Termin).
URL:https://stellacanis.de/event/freitagstrail-44/
CATEGORIES:Freitagstrail,Gruppentrails
ATTACH;FMTTYPE=image/jpeg:https://stellacanis.de/wp-content/uploads/2023/07/cropped-CanisMajor-e1681226102726.jpg
ORGANIZER;CN="Gaby":MAILTO:gaby@stellacanis.de
END:VEVENT
BEGIN:VEVENT
DTSTART;TZID=Europe/Berlin:20260205T150000
DTEND;TZID=Europe/Berlin:20260205T190000
DTSTAMP:20260422T195516
CREATED:20251201T165723Z
LAST-MODIFIED:20251201T165723Z
UID:10001763-1770303600-1770318000@stellacanis.de
SUMMARY:Donnerstagsstrail
DESCRIPTION:Der Veranstaltungsort wird über den Menüpunkt “Treffpunkte” bekannt gegeben (4 Tage vor dem Termin).
URL:https://stellacanis.de/event/donnerstagsstrail-83/
CATEGORIES:DonnerstagAbend,Gruppentrails
ATTACH;FMTTYPE=image/jpeg:https://stellacanis.de/wp-content/uploads/2023/07/cropped-CanisMajor-e1681226102726.jpg
ORGANIZER;CN="Gaby":MAILTO:gaby@stellacanis.de
END:VEVENT
BEGIN:VEVENT
DTSTART;TZID=Europe/Berlin:20260204T090000
DTEND;TZID=Europe/Berlin:20260204T120000
DTSTAMP:20260422T195516
CREATED:20251201T165648Z
LAST-MODIFIED:20251201T165648Z
UID:10001762-1770195600-1770206400@stellacanis.de
SUMMARY:Mittwochstrail
DESCRIPTION:Der Veranstaltungsort wird über den Menüpunkt “Treffpunkte” bekannt gegeben (4 Tage vor dem Termin).
URL:https://stellacanis.de/event/mittwochstrail-92/
CATEGORIES:Gruppentrails,MittwochMorgen
ATTACH;FMTTYPE=image/jpeg:https://stellacanis.de/wp-content/uploads/2023/07/cropped-cropped-CanisMajor-e1681226102726.jpg
ORGANIZER;CN="Gaby":MAILTO:gaby@stellacanis.de
END:VEVENT
BEGIN:VEVENT
DTSTART;TZID=Europe/Berlin:20260130T150000
DTEND;TZID=Europe/Berlin:20260130T190000
DTSTAMP:20260422T195516
CREATED:20260125T135329Z
LAST-MODIFIED:20260125T135523Z
UID:10001808-1769785200-1769799600@stellacanis.de
SUMMARY:Freitagstrail
DESCRIPTION:Der Veranstaltungsort wird über den Menüpunkt “Treffpunkte” bekannt gegeben (4 Tage vor dem Termin). \nEs gelten die allgemeinen Geschäftsbedingungen (AGB).
URL:https://stellacanis.de/event/freitagstrail-45/
CATEGORIES:Freitagstrail,Gruppentrails
ATTACH;FMTTYPE=image/jpeg:https://stellacanis.de/wp-content/uploads/2023/07/cropped-CanisMajor-e1681226102726.jpg
ORGANIZER;CN="Gaby":MAILTO:gaby@stellacanis.de
END:VEVENT
BEGIN:VEVENT
DTSTART;TZID=Europe/Berlin:20260129T150000
DTEND;TZID=Europe/Berlin:20260129T190000
DTSTAMP:20260422T195516
CREATED:20251201T164608Z
LAST-MODIFIED:20251201T164608Z
UID:10001761-1769698800-1769713200@stellacanis.de
SUMMARY:Donnerstagsstrail
DESCRIPTION:Der Veranstaltungsort wird über den Menüpunkt “Treffpunkte” bekannt gegeben (4 Tage vor dem Termin).
URL:https://stellacanis.de/event/donnerstagsstrail-82/
CATEGORIES:DonnerstagAbend,Gruppentrails
ATTACH;FMTTYPE=image/jpeg:https://stellacanis.de/wp-content/uploads/2023/07/cropped-CanisMajor-e1681226102726.jpg
ORGANIZER;CN="Gaby":MAILTO:gaby@stellacanis.de
END:VEVENT
BEGIN:VEVENT
DTSTART;TZID=Europe/Berlin:20260128T090000
DTEND;TZID=Europe/Berlin:20260128T120000
DTSTAMP:20260422T195516
CREATED:20251201T164532Z
LAST-MODIFIED:20251201T164532Z
UID:10001760-1769590800-1769601600@stellacanis.de
SUMMARY:Mittwochstrail
DESCRIPTION:Der Veranstaltungsort wird über den Menüpunkt “Treffpunkte” bekannt gegeben (4 Tage vor dem Termin).
URL:https://stellacanis.de/event/mittwochstrail-91/
CATEGORIES:Gruppentrails,MittwochMorgen
ATTACH;FMTTYPE=image/jpeg:https://stellacanis.de/wp-content/uploads/2023/07/cropped-cropped-CanisMajor-e1681226102726.jpg
ORGANIZER;CN="Gaby":MAILTO:gaby@stellacanis.de
END:VEVENT
BEGIN:VEVENT
DTSTART;TZID=Europe/Berlin:20260124T140000
DTEND;TZID=Europe/Berlin:20260124T180000
DTSTAMP:20260422T195516
CREATED:20251201T173414Z
LAST-MODIFIED:20251201T180616Z
UID:10001787-1769263200-1769277600@stellacanis.de
SUMMARY:Seminar:  Leinenhandling und Kreuzung
DESCRIPTION:Seminar:\nLeinenhandling und Kreuzung \nDie Trailleine ist auf dem Trail DAS Kommunikationsmittel zwischen Mensch und Hund. Über die Leine UNTERSTÜTZT der Mensch den Hund\, BESTÄTIGT seine Entscheidungen\, gibt ihm SICHERHEIT. \nLeinenhandling beim Mantrailing ist entscheidend für die Kommunikation\, die Sicherheit und den Erfolg des Hundes. Es ermöglicht dem Hundeführer\, die Körpersprache des Hundes zu lesen und die mentale Verbindung aufrechtzuerhalten. Richtiges Leinenhandling ist beim Mantrailing UNBEDINGT erforderlich\, um dem Hund die nötige Sicherheit\, Freiheit und konstante\, aber nicht störende Unterstützung auf dem Trail zu geben. \nWas ist eine Kreuzung und wie verhalten wir uns in der Aktivzone und in der Passivzone? \nHier lernst Du\, Deinen Hund in der Entscheidung zu unterstützen ohne ihn zu manipulieren. \nDauer: bis zu 4 Stunden \nPreis:   40\,00 EUR \nWeitere Informationen und die Adresse\, wo wir uns treffen hier klicken.
URL:https://stellacanis.de/event/seminar-leinenhandling-und-kreuzung-5/
CATEGORIES:Kurse,Leinenhandling
ATTACH;FMTTYPE=image/jpeg:https://stellacanis.de/wp-content/uploads/2024/02/WhatsApp-Image-2024-02-07-at-19.00.09.jpeg
ORGANIZER;CN="Gaby":MAILTO:gaby@stellacanis.de
END:VEVENT
BEGIN:VEVENT
DTSTART;TZID=Europe/Berlin:20260124T100000
DTEND;TZID=Europe/Berlin:20260124T130000
DTSTAMP:20260422T195516
CREATED:20251201T164449Z
LAST-MODIFIED:20260124T080401Z
UID:10001759-1769248800-1769259600@stellacanis.de
SUMMARY:Samstagstrail
DESCRIPTION:Der Veranstaltungsort wird über den Menüpunkt “Treffpunkte” bekannt gegeben (4 Tage vor dem Termin).
URL:https://stellacanis.de/event/samstagstrail-53/
CATEGORIES:Gruppentrails,SamstagMorgen
ATTACH;FMTTYPE=image/jpeg:https://stellacanis.de/wp-content/uploads/2023/07/cropped-CanisMajor-e1681226102726.jpg
ORGANIZER;CN="Gaby":MAILTO:gaby@stellacanis.de
END:VEVENT
BEGIN:VEVENT
DTSTART;TZID=Europe/Berlin:20260123T150000
DTEND;TZID=Europe/Berlin:20260123T190000
DTSTAMP:20260422T195516
CREATED:20251201T164411Z
LAST-MODIFIED:20251201T164411Z
UID:10001758-1769180400-1769194800@stellacanis.de
SUMMARY:Freitagstrail
DESCRIPTION:Der Veranstaltungsort wird über den Menüpunkt “Treffpunkte” bekannt gegeben (4 Tage vor dem Termin).
URL:https://stellacanis.de/event/freitagstrail-42/
CATEGORIES:Freitagstrail,Gruppentrails
ATTACH;FMTTYPE=image/jpeg:https://stellacanis.de/wp-content/uploads/2023/07/cropped-CanisMajor-e1681226102726.jpg
ORGANIZER;CN="Gaby":MAILTO:gaby@stellacanis.de
END:VEVENT
BEGIN:VEVENT
DTSTART;TZID=Europe/Berlin:20260122T150000
DTEND;TZID=Europe/Berlin:20260122T190000
DTSTAMP:20260422T195516
CREATED:20251201T164334Z
LAST-MODIFIED:20251201T164334Z
UID:10001757-1769094000-1769108400@stellacanis.de
SUMMARY:Donnerstagsstrail
DESCRIPTION:Der Veranstaltungsort wird über den Menüpunkt “Treffpunkte” bekannt gegeben (4 Tage vor dem Termin).
URL:https://stellacanis.de/event/donnerstagsstrail-81/
CATEGORIES:DonnerstagAbend,Gruppentrails
ATTACH;FMTTYPE=image/jpeg:https://stellacanis.de/wp-content/uploads/2023/07/cropped-CanisMajor-e1681226102726.jpg
ORGANIZER;CN="Gaby":MAILTO:gaby@stellacanis.de
END:VEVENT
BEGIN:VEVENT
DTSTART;TZID=Europe/Berlin:20260121T090000
DTEND;TZID=Europe/Berlin:20260121T120000
DTSTAMP:20260422T195516
CREATED:20251201T164259Z
LAST-MODIFIED:20251201T164259Z
UID:10001756-1768986000-1768996800@stellacanis.de
SUMMARY:Mittwochstrail
DESCRIPTION:Der Veranstaltungsort wird über den Menüpunkt “Treffpunkte” bekannt gegeben (4 Tage vor dem Termin).
URL:https://stellacanis.de/event/mittwochstrail-90/
CATEGORIES:Gruppentrails,MittwochMorgen
ATTACH;FMTTYPE=image/jpeg:https://stellacanis.de/wp-content/uploads/2023/07/cropped-cropped-CanisMajor-e1681226102726.jpg
ORGANIZER;CN="Gaby":MAILTO:gaby@stellacanis.de
END:VEVENT
BEGIN:VEVENT
DTSTART;TZID=Europe/Berlin:20260118T100000
DTEND;TZID=Europe/Berlin:20260118T140000
DTSTAMP:20260422T195516
CREATED:20251008T173143Z
LAST-MODIFIED:20260117T170737Z
UID:10001748-1768730400-1768744800@stellacanis.de
SUMMARY:Krimi Trail
DESCRIPTION:Krimi- Staffeltrail mit Social Walk\nWir suchen eine vermisste Person – Erlebe das spannende Abenteuer eines Staffeltrails\nDiese Veranstaltung richtet sich auch an Teams\, die noch nicht an einer Prüfung teilgenommen haben\n(traut Euch\, Ihr schafft das!!). \nDauer: bis zu 4 Stunden\nPreis:   50\,00 EUR \nInformationen und Treffpunkt hier
URL:https://stellacanis.de/event/krimi-trail-3/
CATEGORIES:Krimi-Trail,Spezielle Trails
ATTACH;FMTTYPE=image/jpeg:https://stellacanis.de/wp-content/uploads/2024/06/KrimiTrails.jpeg
ORGANIZER;CN="Gaby":MAILTO:gaby@stellacanis.de
END:VEVENT
BEGIN:VEVENT
DTSTART;TZID=Europe/Berlin:20260117T090000
DTEND;TZID=Europe/Berlin:20260117T120000
DTSTAMP:20260422T195516
CREATED:20251201T164043Z
LAST-MODIFIED:20251201T164043Z
UID:10001755-1768640400-1768651200@stellacanis.de
SUMMARY:Samstagstrail
DESCRIPTION:Der Veranstaltungsort wird über den Menüpunkt “Treffpunkte” bekannt gegeben (4 Tage vor dem Termin).
URL:https://stellacanis.de/event/samstagstrail-47/
CATEGORIES:Gruppentrails,SamstagMorgen
ATTACH;FMTTYPE=image/jpeg:https://stellacanis.de/wp-content/uploads/2023/07/cropped-CanisMajor-e1681226102726.jpg
ORGANIZER;CN="Gaby":MAILTO:gaby@stellacanis.de
END:VEVENT
BEGIN:VEVENT
DTSTART;TZID=Europe/Berlin:20260116T150000
DTEND;TZID=Europe/Berlin:20260116T190000
DTSTAMP:20260422T195516
CREATED:20251201T164004Z
LAST-MODIFIED:20251201T164004Z
UID:10001754-1768575600-1768590000@stellacanis.de
SUMMARY:Freitagstrail
DESCRIPTION:Der Veranstaltungsort wird über den Menüpunkt “Treffpunkte” bekannt gegeben (4 Tage vor dem Termin).
URL:https://stellacanis.de/event/freitagstrail-41/
CATEGORIES:Freitagstrail,Gruppentrails
ATTACH;FMTTYPE=image/jpeg:https://stellacanis.de/wp-content/uploads/2023/07/cropped-CanisMajor-e1681226102726.jpg
ORGANIZER;CN="Gaby":MAILTO:gaby@stellacanis.de
END:VEVENT
BEGIN:VEVENT
DTSTART;TZID=Europe/Berlin:20260115T150000
DTEND;TZID=Europe/Berlin:20260115T190000
DTSTAMP:20260422T195516
CREATED:20251201T163933Z
LAST-MODIFIED:20251201T163933Z
UID:10001753-1768489200-1768503600@stellacanis.de
SUMMARY:Donnerstagsstrail
DESCRIPTION:Der Veranstaltungsort wird über den Menüpunkt “Treffpunkte” bekannt gegeben (4 Tage vor dem Termin).
URL:https://stellacanis.de/event/donnerstagsstrail-80/
CATEGORIES:DonnerstagAbend,Gruppentrails
ATTACH;FMTTYPE=image/jpeg:https://stellacanis.de/wp-content/uploads/2023/07/cropped-CanisMajor-e1681226102726.jpg
ORGANIZER;CN="Gaby":MAILTO:gaby@stellacanis.de
END:VEVENT
BEGIN:VEVENT
DTSTART;TZID=Europe/Berlin:20260114T090000
DTEND;TZID=Europe/Berlin:20260114T120000
DTSTAMP:20260422T195516
CREATED:20251201T163836Z
LAST-MODIFIED:20251201T163836Z
UID:10001752-1768381200-1768392000@stellacanis.de
SUMMARY:Mittwochstrail
DESCRIPTION:Der Veranstaltungsort wird über den Menüpunkt “Treffpunkte” bekannt gegeben (4 Tage vor dem Termin).
URL:https://stellacanis.de/event/mittwochstrail-89/
CATEGORIES:Gruppentrails,MittwochMorgen
ATTACH;FMTTYPE=image/jpeg:https://stellacanis.de/wp-content/uploads/2023/07/cropped-cropped-CanisMajor-e1681226102726.jpg
ORGANIZER;CN="Gaby":MAILTO:gaby@stellacanis.de
END:VEVENT
BEGIN:VEVENT
DTSTART;TZID=Europe/Berlin:20260107T100000
DTEND;TZID=Europe/Berlin:20260107T130000
DTSTAMP:20260422T195516
CREATED:20251214T190118Z
LAST-MODIFIED:20251214T190118Z
UID:10001807-1767780000-1767790800@stellacanis.de
SUMMARY:Mittwochstrail
DESCRIPTION:Der Veranstaltungsort wird über den Menüpunkt “Treffpunkte” bekannt gegeben (4 Tage vor dem Termin).
URL:https://stellacanis.de/event/mittwochstrail-97/
CATEGORIES:Gruppentrails,MittwochMorgen
ATTACH;FMTTYPE=image/jpeg:https://stellacanis.de/wp-content/uploads/2023/07/cropped-cropped-CanisMajor-e1681226102726.jpg
ORGANIZER;CN="Gaby":MAILTO:gaby@stellacanis.de
END:VEVENT
BEGIN:VEVENT
DTSTART;TZID=Europe/Berlin:20251227T090000
DTEND;TZID=Europe/Berlin:20251227T120000
DTSTAMP:20260422T195516
CREATED:20250829T113203Z
LAST-MODIFIED:20250829T113203Z
UID:10001742-1766826000-1766836800@stellacanis.de
SUMMARY:Samstagstrail
DESCRIPTION:Der Veranstaltungsort wird über den Menüpunkt “Treffpunkte” bekannt gegeben (4 Tage vor dem Termin).
URL:https://stellacanis.de/event/samstagstrail-56/
CATEGORIES:Gruppentrails,SamstagMorgen
ATTACH;FMTTYPE=image/jpeg:https://stellacanis.de/wp-content/uploads/2023/07/cropped-CanisMajor-e1681226102726.jpg
ORGANIZER;CN="Gaby":MAILTO:gaby@stellacanis.de
END:VEVENT
BEGIN:VEVENT
DTSTART;TZID=Europe/Berlin:20251224T100000
DTEND;TZID=Europe/Berlin:20251224T130000
DTSTAMP:20260422T195516
CREATED:20250904T120643Z
LAST-MODIFIED:20251214T185540Z
UID:10001743-1766570400-1766581200@stellacanis.de
SUMMARY:Mittwochstrail
DESCRIPTION:Der Veranstaltungsort wird über den Menüpunkt “Treffpunkte” bekannt gegeben (4 Tage vor dem Termin).
URL:https://stellacanis.de/event/mittwochstrail-87/
CATEGORIES:Gruppentrails,MittwochMorgen
ATTACH;FMTTYPE=image/jpeg:https://stellacanis.de/wp-content/uploads/2023/07/cropped-cropped-CanisMajor-e1681226102726.jpg
ORGANIZER;CN="Gaby":MAILTO:gaby@stellacanis.de
END:VEVENT
BEGIN:VEVENT
DTSTART;TZID=Europe/Berlin:20251220T090000
DTEND;TZID=Europe/Berlin:20251220T120000
DTSTAMP:20260422T195516
CREATED:20250829T113111Z
LAST-MODIFIED:20250829T113111Z
UID:10001741-1766221200-1766232000@stellacanis.de
SUMMARY:Samstagstrail
DESCRIPTION:Der Veranstaltungsort wird über den Menüpunkt “Treffpunkte” bekannt gegeben (4 Tage vor dem Termin).
URL:https://stellacanis.de/event/samstagstrail-55/
CATEGORIES:Gruppentrails,SamstagMorgen
ATTACH;FMTTYPE=image/jpeg:https://stellacanis.de/wp-content/uploads/2023/07/cropped-CanisMajor-e1681226102726.jpg
ORGANIZER;CN="Gaby":MAILTO:gaby@stellacanis.de
END:VEVENT
BEGIN:VEVENT
DTSTART;TZID=Europe/Berlin:20251213T090000
DTEND;TZID=Europe/Berlin:20251213T120000
DTSTAMP:20260422T195516
CREATED:20250829T112852Z
LAST-MODIFIED:20250829T112852Z
UID:10001737-1765616400-1765627200@stellacanis.de
SUMMARY:Samstagstrail
DESCRIPTION:Der Veranstaltungsort wird über den Menüpunkt “Treffpunkte” bekannt gegeben (4 Tage vor dem Termin).
URL:https://stellacanis.de/event/samstagstrail-54/
CATEGORIES:Gruppentrails,SamstagMorgen
ATTACH;FMTTYPE=image/jpeg:https://stellacanis.de/wp-content/uploads/2023/07/cropped-CanisMajor-e1681226102726.jpg
ORGANIZER;CN="Gaby":MAILTO:gaby@stellacanis.de
END:VEVENT
BEGIN:VEVENT
DTSTART;TZID=Europe/Berlin:20251211T150000
DTEND;TZID=Europe/Berlin:20251211T190000
DTSTAMP:20260422T195516
CREATED:20250829T112709Z
LAST-MODIFIED:20250829T112709Z
UID:10001735-1765465200-1765479600@stellacanis.de
SUMMARY:Donnerstagsstrail
DESCRIPTION:Der Veranstaltungsort wird über den Menüpunkt “Treffpunkte” bekannt gegeben (4 Tage vor dem Termin).
URL:https://stellacanis.de/event/donnerstagsstrail-78/
CATEGORIES:DonnerstagAbend,Gruppentrails
ATTACH;FMTTYPE=image/jpeg:https://stellacanis.de/wp-content/uploads/2023/07/cropped-CanisMajor-e1681226102726.jpg
ORGANIZER;CN="Gaby":MAILTO:gaby@stellacanis.de
END:VEVENT
BEGIN:VEVENT
DTSTART;TZID=Europe/Berlin:20251210T090000
DTEND;TZID=Europe/Berlin:20251210T120000
DTSTAMP:20260422T195516
CREATED:20250829T112625Z
LAST-MODIFIED:20250829T112625Z
UID:10001734-1765357200-1765368000@stellacanis.de
SUMMARY:Mittwochstrail
DESCRIPTION:Der Veranstaltungsort wird über den Menüpunkt “Treffpunkte” bekannt gegeben (4 Tage vor dem Termin).
URL:https://stellacanis.de/event/mittwochstrail-86/
CATEGORIES:Gruppentrails,MittwochMorgen
ATTACH;FMTTYPE=image/jpeg:https://stellacanis.de/wp-content/uploads/2023/07/cropped-cropped-CanisMajor-e1681226102726.jpg
ORGANIZER;CN="Gaby":MAILTO:gaby@stellacanis.de
END:VEVENT
BEGIN:VEVENT
DTSTART;TZID=Europe/Berlin:20251205T150000
DTEND;TZID=Europe/Berlin:20251205T190000
DTSTAMP:20260422T195516
CREATED:20250829T112507Z
LAST-MODIFIED:20250829T112507Z
UID:10001732-1764946800-1764961200@stellacanis.de
SUMMARY:Freitagstrail
DESCRIPTION:Der Veranstaltungsort wird über den Menüpunkt “Treffpunkte” bekannt gegeben (4 Tage vor dem Termin).
URL:https://stellacanis.de/event/freitagstrail-43/
CATEGORIES:Freitagstrail,Gruppentrails
ATTACH;FMTTYPE=image/jpeg:https://stellacanis.de/wp-content/uploads/2023/07/cropped-CanisMajor-e1681226102726.jpg
ORGANIZER;CN="Gaby":MAILTO:gaby@stellacanis.de
END:VEVENT
BEGIN:VEVENT
DTSTART;TZID=Europe/Berlin:20251204T150000
DTEND;TZID=Europe/Berlin:20251204T190000
DTSTAMP:20260422T195516
CREATED:20250829T112423Z
LAST-MODIFIED:20250829T112423Z
UID:10001731-1764860400-1764874800@stellacanis.de
SUMMARY:Donnerstagsstrail
DESCRIPTION:Der Veranstaltungsort wird über den Menüpunkt “Treffpunkte” bekannt gegeben (4 Tage vor dem Termin).
URL:https://stellacanis.de/event/donnerstagsstrail-77/
CATEGORIES:DonnerstagAbend,Gruppentrails
ATTACH;FMTTYPE=image/jpeg:https://stellacanis.de/wp-content/uploads/2023/07/cropped-CanisMajor-e1681226102726.jpg
ORGANIZER;CN="Gaby":MAILTO:gaby@stellacanis.de
END:VEVENT
BEGIN:VEVENT
DTSTART;TZID=Europe/Berlin:20251203T090000
DTEND;TZID=Europe/Berlin:20251203T120000
DTSTAMP:20260422T195516
CREATED:20250829T112244Z
LAST-MODIFIED:20250829T112244Z
UID:10001730-1764752400-1764763200@stellacanis.de
SUMMARY:Mittwochstrail
DESCRIPTION:Der Veranstaltungsort wird über den Menüpunkt “Treffpunkte” bekannt gegeben (4 Tage vor dem Termin).
URL:https://stellacanis.de/event/mittwochstrail-85/
CATEGORIES:Gruppentrails,MittwochMorgen
ATTACH;FMTTYPE=image/jpeg:https://stellacanis.de/wp-content/uploads/2023/07/cropped-cropped-CanisMajor-e1681226102726.jpg
ORGANIZER;CN="Gaby":MAILTO:gaby@stellacanis.de
END:VEVENT
END:VCALENDAR