BEGIN:VCALENDAR
VERSION:2.0
PRODID:-//StellaCANIS - ECPv6.15.20//NONSGML v1.0//EN
CALSCALE:GREGORIAN
METHOD:PUBLISH
X-ORIGINAL-URL:https://stellacanis.de
X-WR-CALDESC:Veranstaltungen für StellaCANIS
REFRESH-INTERVAL;VALUE=DURATION:PT1H
X-Robots-Tag:noindex
X-PUBLISHED-TTL:PT1H
BEGIN:VTIMEZONE
TZID:Europe/Berlin
BEGIN:DAYLIGHT
TZOFFSETFROM:+0100
TZOFFSETTO:+0200
TZNAME:CEST
DTSTART:20250330T010000
END:DAYLIGHT
BEGIN:STANDARD
TZOFFSETFROM:+0200
TZOFFSETTO:+0100
TZNAME:CET
DTSTART:20251026T010000
END:STANDARD
BEGIN:DAYLIGHT
TZOFFSETFROM:+0100
TZOFFSETTO:+0200
TZNAME:CEST
DTSTART:20260329T010000
END:DAYLIGHT
BEGIN:STANDARD
TZOFFSETFROM:+0200
TZOFFSETTO:+0100
TZNAME:CET
DTSTART:20261025T010000
END:STANDARD
BEGIN:DAYLIGHT
TZOFFSETFROM:+0100
TZOFFSETTO:+0200
TZNAME:CEST
DTSTART:20270328T010000
END:DAYLIGHT
BEGIN:STANDARD
TZOFFSETFROM:+0200
TZOFFSETTO:+0100
TZNAME:CET
DTSTART:20271031T010000
END:STANDARD
END:VTIMEZONE
BEGIN:VEVENT
DTSTART;TZID=Europe/Berlin:20260506T090000
DTEND;TZID=Europe/Berlin:20260506T120000
DTSTAMP:20260422T150755
CREATED:20260206T120732Z
LAST-MODIFIED:20260206T120732Z
UID:10001848-1778058000-1778068800@stellacanis.de
SUMMARY:Mittwochstrail
DESCRIPTION:Der Veranstaltungsort wird über den Menüpunkt “Treffpunkte” bekannt gegeben (4 Tage vor dem Termin). \nEs gelten unsere allgemeinen Geschäftsbedingungen (AGB).
URL:https://stellacanis.de/event/mittwochstrail-102/
CATEGORIES:Gruppentrails,MittwochMorgen
ATTACH;FMTTYPE=image/jpeg:https://stellacanis.de/wp-content/uploads/2023/07/cropped-cropped-CanisMajor-e1681226102726.jpg
ORGANIZER;CN="Gaby":MAILTO:gaby@stellacanis.de
END:VEVENT
BEGIN:VEVENT
DTSTART;TZID=Europe/Berlin:20260513T090000
DTEND;TZID=Europe/Berlin:20260513T120000
DTSTAMP:20260422T150755
CREATED:20260206T120815Z
LAST-MODIFIED:20260206T120815Z
UID:10001849-1778662800-1778673600@stellacanis.de
SUMMARY:Mittwochstrail
DESCRIPTION:Der Veranstaltungsort wird über den Menüpunkt “Treffpunkte” bekannt gegeben (4 Tage vor dem Termin). \nEs gelten unsere allgemeinen Geschäftsbedingungen (AGB).
URL:https://stellacanis.de/event/mittwochstrail-103/
CATEGORIES:Gruppentrails,MittwochMorgen
ATTACH;FMTTYPE=image/jpeg:https://stellacanis.de/wp-content/uploads/2023/07/cropped-cropped-CanisMajor-e1681226102726.jpg
ORGANIZER;CN="Gaby":MAILTO:gaby@stellacanis.de
END:VEVENT
BEGIN:VEVENT
DTSTART;TZID=Europe/Berlin:20260515T160000
DTEND;TZID=Europe/Berlin:20260515T190000
DTSTAMP:20260422T150755
CREATED:20260206T121054Z
LAST-MODIFIED:20260206T121054Z
UID:10001852-1778860800-1778871600@stellacanis.de
SUMMARY:Freitagstrail
DESCRIPTION:Der Veranstaltungsort wird über den Menüpunkt “Treffpunkte” bekannt gegeben (4 Tage vor dem Termin). \nEs gelten unsere allgemeinen Geschäftsbedingungen (AGB).
URL:https://stellacanis.de/event/freitagstrail-54/
CATEGORIES:Freitagstrail,Gruppentrails
ATTACH;FMTTYPE=image/jpeg:https://stellacanis.de/wp-content/uploads/2023/07/cropped-CanisMajor-e1681226102726.jpg
ORGANIZER;CN="Gaby":MAILTO:gaby@stellacanis.de
END:VEVENT
BEGIN:VEVENT
DTSTART;TZID=Europe/Berlin:20260516T090000
DTEND;TZID=Europe/Berlin:20260516T120000
DTSTAMP:20260422T150755
CREATED:20260206T121139Z
LAST-MODIFIED:20260206T121139Z
UID:10001853-1778922000-1778932800@stellacanis.de
SUMMARY:Samstagstrail
DESCRIPTION:Der Veranstaltungsort wird über den Menüpunkt “Treffpunkte” bekannt gegeben (4 Tage vor dem Termin). \nEs gelten unsere allgemeinen Geschäftsbedingungen (AGB).
URL:https://stellacanis.de/event/samstagstrail-67/
CATEGORIES:Gruppentrails,SamstagMorgen
ATTACH;FMTTYPE=image/jpeg:https://stellacanis.de/wp-content/uploads/2023/07/cropped-CanisMajor-e1681226102726.jpg
ORGANIZER;CN="Gaby":MAILTO:gaby@stellacanis.de
END:VEVENT
BEGIN:VEVENT
DTSTART;TZID=Europe/Berlin:20260516T130000
DTEND;TZID=Europe/Berlin:20260516T160000
DTSTAMP:20260422T150755
CREATED:20260206T121229Z
LAST-MODIFIED:20260206T121229Z
UID:10001854-1778936400-1778947200@stellacanis.de
SUMMARY:Samstagstrail-Beginner
DESCRIPTION:Der Veranstaltungsort wird über den Menüpunkt “Treffpunkte” bekannt gegeben (4 Tage vor dem Termin). \nEs gelten die allgemeinen Geschäftsbedingungen (AGB). \n 
URL:https://stellacanis.de/event/samstagstrail-beginner-10/
CATEGORIES:Gruppentrails,Samstag-Beginner
ATTACH;FMTTYPE=image/png:https://stellacanis.de/wp-content/uploads/2026/01/Beginner-3.png
ORGANIZER;CN="Gaby":MAILTO:gaby@stellacanis.de
END:VEVENT
BEGIN:VEVENT
DTSTART;TZID=Europe/Berlin:20260517T100000
DTEND;TZID=Europe/Berlin:20260517T140000
DTSTAMP:20260422T150755
CREATED:20251201T192229Z
LAST-MODIFIED:20251201T194842Z
UID:10001795-1779012000-1779026400@stellacanis.de
SUMMARY:B I G   City-Trail
DESCRIPTION:Wir trailen in Frankfurt! Ob im Parkhaus\, ob Indoor oder Outdoor\, ob in der Fressgass\, Fußgängerzonen oder rund um die alte Oper – jeder Trail ist ein Abenteuer!\nDiese Veranstaltung richtet sich an erfahrene Teams (mind. B1).\nJedes Team erhält 1 Trail; Dauer ca. 3 Stunden; Preis: 75\,00 EUR (VP vorhanden) (exclusive Parkgebühren) \nDer genauer Treffpunkt wird über den Menüpunkt “Treffpunkte” bekannt gegeben (4 Tage vor dem Termin).
URL:https://stellacanis.de/event/b-i-g-city-trail/
CATEGORIES:BigCity,Spezielle Trails
ATTACH;FMTTYPE=image/jpeg:https://stellacanis.de/wp-content/uploads/2025/12/alte-oper.jpg
ORGANIZER;CN="Gaby":MAILTO:gaby@stellacanis.de
END:VEVENT
BEGIN:VEVENT
DTSTART;TZID=Europe/Berlin:20260521T173000
DTEND;TZID=Europe/Berlin:20260521T200000
DTSTAMP:20260422T150755
CREATED:20260206T121435Z
LAST-MODIFIED:20260206T121435Z
UID:10001855-1779384600-1779393600@stellacanis.de
SUMMARY:Donnerstagsstrail
DESCRIPTION:Der Veranstaltungsort wird über den Menüpunkt “Treffpunkte” bekannt gegeben (4 Tage vor dem Termin). \nEs gelten unsere allgemeinen Geschäftsbedingungen (AGB).
URL:https://stellacanis.de/event/donnerstagsstrail-94/
CATEGORIES:DonnerstagAbend,Gruppentrails
ATTACH;FMTTYPE=image/jpeg:https://stellacanis.de/wp-content/uploads/2023/07/cropped-CanisMajor-e1681226102726.jpg
ORGANIZER;CN="Gaby":MAILTO:gaby@stellacanis.de
END:VEVENT
BEGIN:VEVENT
DTSTART;TZID=Europe/Berlin:20260522T173000
DTEND;TZID=Europe/Berlin:20260522T200000
DTSTAMP:20260422T150755
CREATED:20260206T121519Z
LAST-MODIFIED:20260206T121519Z
UID:10001856-1779471000-1779480000@stellacanis.de
SUMMARY:Freitagstrail
DESCRIPTION:Der Veranstaltungsort wird über den Menüpunkt “Treffpunkte” bekannt gegeben (4 Tage vor dem Termin). \nEs gelten unsere allgemeinen Geschäftsbedingungen (AGB).
URL:https://stellacanis.de/event/freitagstrail-55/
CATEGORIES:Freitagstrail,Gruppentrails
ATTACH;FMTTYPE=image/jpeg:https://stellacanis.de/wp-content/uploads/2023/07/cropped-CanisMajor-e1681226102726.jpg
ORGANIZER;CN="Gaby":MAILTO:gaby@stellacanis.de
END:VEVENT
BEGIN:VEVENT
DTSTART;TZID=Europe/Berlin:20260523T090000
DTEND;TZID=Europe/Berlin:20260523T120000
DTSTAMP:20260422T150755
CREATED:20260206T121558Z
LAST-MODIFIED:20260206T121558Z
UID:10001857-1779526800-1779537600@stellacanis.de
SUMMARY:Samstagstrail
DESCRIPTION:Der Veranstaltungsort wird über den Menüpunkt “Treffpunkte” bekannt gegeben (4 Tage vor dem Termin). \nEs gelten unsere allgemeinen Geschäftsbedingungen (AGB).
URL:https://stellacanis.de/event/samstagstrail-68/
CATEGORIES:Gruppentrails,SamstagMorgen
ATTACH;FMTTYPE=image/jpeg:https://stellacanis.de/wp-content/uploads/2023/07/cropped-CanisMajor-e1681226102726.jpg
ORGANIZER;CN="Gaby":MAILTO:gaby@stellacanis.de
END:VEVENT
BEGIN:VEVENT
DTSTART;TZID=Europe/Berlin:20260523T130000
DTEND;TZID=Europe/Berlin:20260523T160000
DTSTAMP:20260422T150755
CREATED:20260206T121649Z
LAST-MODIFIED:20260206T121649Z
UID:10001858-1779541200-1779552000@stellacanis.de
SUMMARY:Samstagstrail-Beginner
DESCRIPTION:Der Veranstaltungsort wird über den Menüpunkt “Treffpunkte” bekannt gegeben (4 Tage vor dem Termin). \nEs gelten die allgemeinen Geschäftsbedingungen (AGB). \n 
URL:https://stellacanis.de/event/samstagstrail-beginner-12/
CATEGORIES:Gruppentrails,Samstag-Beginner
ATTACH;FMTTYPE=image/png:https://stellacanis.de/wp-content/uploads/2026/01/Beginner-3.png
ORGANIZER;CN="Gaby":MAILTO:gaby@stellacanis.de
END:VEVENT
BEGIN:VEVENT
DTSTART;TZID=Europe/Berlin:20260527T090000
DTEND;TZID=Europe/Berlin:20260527T120000
DTSTAMP:20260422T150755
CREATED:20260206T121744Z
LAST-MODIFIED:20260206T121744Z
UID:10001859-1779872400-1779883200@stellacanis.de
SUMMARY:Mittwochstrail
DESCRIPTION:Der Veranstaltungsort wird über den Menüpunkt “Treffpunkte” bekannt gegeben (4 Tage vor dem Termin). \nEs gelten unsere allgemeinen Geschäftsbedingungen (AGB).
URL:https://stellacanis.de/event/mittwochstrail-104/
CATEGORIES:Gruppentrails,MittwochMorgen
ATTACH;FMTTYPE=image/jpeg:https://stellacanis.de/wp-content/uploads/2023/07/cropped-cropped-CanisMajor-e1681226102726.jpg
ORGANIZER;CN="Gaby":MAILTO:gaby@stellacanis.de
END:VEVENT
BEGIN:VEVENT
DTSTART;TZID=Europe/Berlin:20260528T160000
DTEND;TZID=Europe/Berlin:20260528T200000
DTSTAMP:20260422T150755
CREATED:20260206T121814Z
LAST-MODIFIED:20260206T131953Z
UID:10001860-1779984000-1779998400@stellacanis.de
SUMMARY:Donnerstagsstrail
DESCRIPTION:Der Veranstaltungsort wird über den Menüpunkt “Treffpunkte” bekannt gegeben (4 Tage vor dem Termin). \nEs gelten unsere allgemeinen Geschäftsbedingungen (AGB).
URL:https://stellacanis.de/event/donnerstagsstrail-95/
CATEGORIES:DonnerstagAbend,Gruppentrails
ATTACH;FMTTYPE=image/jpeg:https://stellacanis.de/wp-content/uploads/2023/07/cropped-CanisMajor-e1681226102726.jpg
ORGANIZER;CN="Gaby":MAILTO:gaby@stellacanis.de
END:VEVENT
BEGIN:VEVENT
DTSTART;TZID=Europe/Berlin:20260529T160000
DTEND;TZID=Europe/Berlin:20260529T190000
DTSTAMP:20260422T150755
CREATED:20260206T121857Z
LAST-MODIFIED:20260206T121857Z
UID:10001861-1780070400-1780081200@stellacanis.de
SUMMARY:Freitagstrail
DESCRIPTION:Der Veranstaltungsort wird über den Menüpunkt “Treffpunkte” bekannt gegeben (4 Tage vor dem Termin). \nEs gelten unsere allgemeinen Geschäftsbedingungen (AGB).
URL:https://stellacanis.de/event/freitagstrail-56/
CATEGORIES:Freitagstrail,Gruppentrails
ATTACH;FMTTYPE=image/jpeg:https://stellacanis.de/wp-content/uploads/2023/07/cropped-CanisMajor-e1681226102726.jpg
ORGANIZER;CN="Gaby":MAILTO:gaby@stellacanis.de
END:VEVENT
BEGIN:VEVENT
DTSTART;TZID=Europe/Berlin:20260530T100000
DTEND;TZID=Europe/Berlin:20260530T130000
DTSTAMP:20260422T150755
CREATED:20251201T184811Z
LAST-MODIFIED:20251201T184811Z
UID:10001791-1780135200-1780146000@stellacanis.de
SUMMARY:Trailen am Bölle
DESCRIPTION:Diese Trail richtet sich an Teams\, die regelmäßig am Training teilnehmen. \nWeitere Informationen zum Event: Hier klicken.
URL:https://stellacanis.de/event/trailen-am-boelle-3/
CATEGORIES:Special Event,Stadion
ATTACH;FMTTYPE=image/jpeg:https://stellacanis.de/wp-content/uploads/2024/08/Boelle.jpg
ORGANIZER;CN="Gaby":MAILTO:gaby@stellacanis.de
END:VEVENT
BEGIN:VEVENT
DTSTART;TZID=Europe/Berlin:20260531T100000
DTEND;TZID=Europe/Berlin:20260531T110000
DTSTAMP:20260422T150755
CREATED:20260206T131001Z
LAST-MODIFIED:20260206T131001Z
UID:10001883-1780221600-1780225200@stellacanis.de
SUMMARY:Alltagstraining/Social Walk
DESCRIPTION:Ein Social Walk ist ein geführter Lernspaziergang in der Gruppe\, bei dem Hunde trotz der Anwesenheit anderer Artgenossen lernen\, entspannt an der Leine zu bleiben. \nAlltagstraining zielt darauf ab\, dem Hund ein souveränes\, entspanntes Verhalten in typischen Alltagssituationen zu vermitteln. Dabei werden Lerninhalte wie Leinenführigkeit\, der Rückruf\, Impulskontrolle und Begegnungen mit Umweltreizen direkt im realen Leben geübt. \nPreis pro Team: 20\,00 € \nEs gelten unsere allgemeinen Geschäftsbedingungen (AGB).
URL:https://stellacanis.de/event/alltagstraining-social-walk-3/
CATEGORIES:Alltagstraining
ATTACH;FMTTYPE=image/jpeg:https://stellacanis.de/wp-content/uploads/2026/01/WhatsApp-Image-2026-01-26-at-17.41.55.jpeg
ORGANIZER;CN="Gaby":MAILTO:gaby@stellacanis.de
END:VEVENT
BEGIN:VEVENT
DTSTART;TZID=Europe/Berlin:20260601T100000
DTEND;TZID=Europe/Berlin:20260601T130000
DTSTAMP:20260422T150755
CREATED:20251201T184858Z
LAST-MODIFIED:20251201T184858Z
UID:10001792-1780308000-1780318800@stellacanis.de
SUMMARY:Trailen am Bölle
DESCRIPTION:Diese Trail richtet sich an Teams\, die regelmäßig am Training teilnehmen. \nWeitere Informationen zum Event: Hier klicken.
URL:https://stellacanis.de/event/trailen-am-boelle-4/
CATEGORIES:Special Event,Stadion
ATTACH;FMTTYPE=image/jpeg:https://stellacanis.de/wp-content/uploads/2024/08/Boelle.jpg
ORGANIZER;CN="Gaby":MAILTO:gaby@stellacanis.de
END:VEVENT
BEGIN:VEVENT
DTSTART;TZID=Europe/Berlin:20260603T090000
DTEND;TZID=Europe/Berlin:20260603T120000
DTSTAMP:20260422T150755
CREATED:20260206T122638Z
LAST-MODIFIED:20260206T122638Z
UID:10001862-1780477200-1780488000@stellacanis.de
SUMMARY:Mittwochstrail
DESCRIPTION:Der Veranstaltungsort wird über den Menüpunkt “Treffpunkte” bekannt gegeben (4 Tage vor dem Termin). \nEs gelten unsere allgemeinen Geschäftsbedingungen (AGB).
URL:https://stellacanis.de/event/mittwochstrail-105/
CATEGORIES:Gruppentrails,MittwochMorgen
ATTACH;FMTTYPE=image/jpeg:https://stellacanis.de/wp-content/uploads/2023/07/cropped-cropped-CanisMajor-e1681226102726.jpg
ORGANIZER;CN="Gaby":MAILTO:gaby@stellacanis.de
END:VEVENT
BEGIN:VEVENT
DTSTART;TZID=Europe/Berlin:20260605T160000
DTEND;TZID=Europe/Berlin:20260605T190000
DTSTAMP:20260422T150755
CREATED:20260206T123330Z
LAST-MODIFIED:20260206T123330Z
UID:10001864-1780675200-1780686000@stellacanis.de
SUMMARY:Freitagstrail
DESCRIPTION:Der Veranstaltungsort wird über den Menüpunkt “Treffpunkte” bekannt gegeben (4 Tage vor dem Termin). \nEs gelten unsere allgemeinen Geschäftsbedingungen (AGB).
URL:https://stellacanis.de/event/freitagstrail-57/
CATEGORIES:Freitagstrail,Gruppentrails
ATTACH;FMTTYPE=image/jpeg:https://stellacanis.de/wp-content/uploads/2023/07/cropped-CanisMajor-e1681226102726.jpg
ORGANIZER;CN="Gaby":MAILTO:gaby@stellacanis.de
END:VEVENT
BEGIN:VEVENT
DTSTART;TZID=Europe/Berlin:20260606T090000
DTEND;TZID=Europe/Berlin:20260606T120000
DTSTAMP:20260422T150755
CREATED:20260206T123422Z
LAST-MODIFIED:20260206T123804Z
UID:10001865-1780736400-1780747200@stellacanis.de
SUMMARY:Samstagstrail
DESCRIPTION:Der Veranstaltungsort wird über den Menüpunkt “Treffpunkte” bekannt gegeben (4 Tage vor dem Termin). \nEs gelten unsere allgemeinen Geschäftsbedingungen (AGB).
URL:https://stellacanis.de/event/samstagstrail-69/
CATEGORIES:Gruppentrails,SamstagMorgen
ATTACH;FMTTYPE=image/jpeg:https://stellacanis.de/wp-content/uploads/2023/07/cropped-CanisMajor-e1681226102726.jpg
ORGANIZER;CN="Gaby":MAILTO:gaby@stellacanis.de
END:VEVENT
BEGIN:VEVENT
DTSTART;TZID=Europe/Berlin:20260606T130000
DTEND;TZID=Europe/Berlin:20260606T160000
DTSTAMP:20260422T150755
CREATED:20260206T123510Z
LAST-MODIFIED:20260206T123510Z
UID:10001866-1780750800-1780761600@stellacanis.de
SUMMARY:Samstagstrail-Beginner
DESCRIPTION:Der Veranstaltungsort wird über den Menüpunkt “Treffpunkte” bekannt gegeben (4 Tage vor dem Termin). \nEs gelten die allgemeinen Geschäftsbedingungen (AGB). \n 
URL:https://stellacanis.de/event/samstagstrail-beginner-13/
CATEGORIES:Gruppentrails,Samstag-Beginner
ATTACH;FMTTYPE=image/png:https://stellacanis.de/wp-content/uploads/2026/01/Beginner-3.png
ORGANIZER;CN="Gaby":MAILTO:gaby@stellacanis.de
END:VEVENT
BEGIN:VEVENT
DTSTART;TZID=Europe/Berlin:20260610T090000
DTEND;TZID=Europe/Berlin:20260610T120000
DTSTAMP:20260422T150755
CREATED:20260206T123908Z
LAST-MODIFIED:20260206T123908Z
UID:10001867-1781082000-1781092800@stellacanis.de
SUMMARY:Mittwochstrail
DESCRIPTION:Der Veranstaltungsort wird über den Menüpunkt “Treffpunkte” bekannt gegeben (4 Tage vor dem Termin). \nEs gelten unsere allgemeinen Geschäftsbedingungen (AGB).
URL:https://stellacanis.de/event/mittwochstrail-106/
CATEGORIES:Gruppentrails,MittwochMorgen
ATTACH;FMTTYPE=image/jpeg:https://stellacanis.de/wp-content/uploads/2023/07/cropped-cropped-CanisMajor-e1681226102726.jpg
ORGANIZER;CN="Gaby":MAILTO:gaby@stellacanis.de
END:VEVENT
BEGIN:VEVENT
DTSTART;TZID=Europe/Berlin:20260611T160000
DTEND;TZID=Europe/Berlin:20260611T190000
DTSTAMP:20260422T150755
CREATED:20260206T123943Z
LAST-MODIFIED:20260206T132208Z
UID:10001868-1781193600-1781204400@stellacanis.de
SUMMARY:Donnerstagsstrail
DESCRIPTION:Der Veranstaltungsort wird über den Menüpunkt “Treffpunkte” bekannt gegeben (4 Tage vor dem Termin). \nEs gelten unsere allgemeinen Geschäftsbedingungen (AGB).
URL:https://stellacanis.de/event/donnerstagsstrail-96/
CATEGORIES:DonnerstagAbend,Gruppentrails
ATTACH;FMTTYPE=image/jpeg:https://stellacanis.de/wp-content/uploads/2023/07/cropped-CanisMajor-e1681226102726.jpg
ORGANIZER;CN="Gaby":MAILTO:gaby@stellacanis.de
END:VEVENT
BEGIN:VEVENT
DTSTART;TZID=Europe/Berlin:20260612T160000
DTEND;TZID=Europe/Berlin:20260612T190000
DTSTAMP:20260422T150755
CREATED:20260206T124033Z
LAST-MODIFIED:20260206T124033Z
UID:10001869-1781280000-1781290800@stellacanis.de
SUMMARY:Freitagstrail
DESCRIPTION:Der Veranstaltungsort wird über den Menüpunkt “Treffpunkte” bekannt gegeben (4 Tage vor dem Termin). \nEs gelten unsere allgemeinen Geschäftsbedingungen (AGB).
URL:https://stellacanis.de/event/freitagstrail-58/
CATEGORIES:Freitagstrail,Gruppentrails
ATTACH;FMTTYPE=image/jpeg:https://stellacanis.de/wp-content/uploads/2023/07/cropped-CanisMajor-e1681226102726.jpg
ORGANIZER;CN="Gaby":MAILTO:gaby@stellacanis.de
END:VEVENT
BEGIN:VEVENT
DTSTART;TZID=Europe/Berlin:20260613T090000
DTEND;TZID=Europe/Berlin:20260613T120000
DTSTAMP:20260422T150755
CREATED:20260206T124110Z
LAST-MODIFIED:20260206T124110Z
UID:10001870-1781341200-1781352000@stellacanis.de
SUMMARY:Samstagstrail
DESCRIPTION:Der Veranstaltungsort wird über den Menüpunkt “Treffpunkte” bekannt gegeben (4 Tage vor dem Termin). \nEs gelten unsere allgemeinen Geschäftsbedingungen (AGB).
URL:https://stellacanis.de/event/samstagstrail-70/
CATEGORIES:Gruppentrails,SamstagMorgen
ATTACH;FMTTYPE=image/jpeg:https://stellacanis.de/wp-content/uploads/2023/07/cropped-CanisMajor-e1681226102726.jpg
ORGANIZER;CN="Gaby":MAILTO:gaby@stellacanis.de
END:VEVENT
BEGIN:VEVENT
DTSTART;TZID=Europe/Berlin:20260614T100000
DTEND;TZID=Europe/Berlin:20260614T110000
DTSTAMP:20260422T150755
CREATED:20260206T131059Z
LAST-MODIFIED:20260206T131059Z
UID:10001884-1781431200-1781434800@stellacanis.de
SUMMARY:Alltagstraining/Social Walk
DESCRIPTION:Ein Social Walk ist ein geführter Lernspaziergang in der Gruppe\, bei dem Hunde trotz der Anwesenheit anderer Artgenossen lernen\, entspannt an der Leine zu bleiben. \nAlltagstraining zielt darauf ab\, dem Hund ein souveränes\, entspanntes Verhalten in typischen Alltagssituationen zu vermitteln. Dabei werden Lerninhalte wie Leinenführigkeit\, der Rückruf\, Impulskontrolle und Begegnungen mit Umweltreizen direkt im realen Leben geübt. \nPreis pro Team: 20\,00 € \nEs gelten unsere allgemeinen Geschäftsbedingungen (AGB).
URL:https://stellacanis.de/event/alltagstraining-social-walk-4/
CATEGORIES:Alltagstraining
ATTACH;FMTTYPE=image/jpeg:https://stellacanis.de/wp-content/uploads/2026/01/WhatsApp-Image-2026-01-26-at-17.41.55.jpeg
ORGANIZER;CN="Gaby":MAILTO:gaby@stellacanis.de
END:VEVENT
BEGIN:VEVENT
DTSTART;TZID=Europe/Berlin:20260618T173000
DTEND;TZID=Europe/Berlin:20260618T200000
DTSTAMP:20260422T150755
CREATED:20260206T124450Z
LAST-MODIFIED:20260206T124450Z
UID:10001873-1781803800-1781812800@stellacanis.de
SUMMARY:Donnerstagsstrail
DESCRIPTION:Der Veranstaltungsort wird über den Menüpunkt “Treffpunkte” bekannt gegeben (4 Tage vor dem Termin). \nEs gelten unsere allgemeinen Geschäftsbedingungen (AGB).
URL:https://stellacanis.de/event/donnerstagsstrail-97/
CATEGORIES:DonnerstagAbend,Gruppentrails
ATTACH;FMTTYPE=image/jpeg:https://stellacanis.de/wp-content/uploads/2023/07/cropped-CanisMajor-e1681226102726.jpg
ORGANIZER;CN="Gaby":MAILTO:gaby@stellacanis.de
END:VEVENT
BEGIN:VEVENT
DTSTART;TZID=Europe/Berlin:20260619T173000
DTEND;TZID=Europe/Berlin:20260619T200000
DTSTAMP:20260422T150755
CREATED:20260206T124547Z
LAST-MODIFIED:20260206T124547Z
UID:10001874-1781890200-1781899200@stellacanis.de
SUMMARY:Freitagstrail
DESCRIPTION:Der Veranstaltungsort wird über den Menüpunkt “Treffpunkte” bekannt gegeben (4 Tage vor dem Termin). \nEs gelten unsere allgemeinen Geschäftsbedingungen (AGB).
URL:https://stellacanis.de/event/freitagstrail-59/
CATEGORIES:Freitagstrail,Gruppentrails
ATTACH;FMTTYPE=image/jpeg:https://stellacanis.de/wp-content/uploads/2023/07/cropped-CanisMajor-e1681226102726.jpg
ORGANIZER;CN="Gaby":MAILTO:gaby@stellacanis.de
END:VEVENT
BEGIN:VEVENT
DTSTART;TZID=Europe/Berlin:20260620T090000
DTEND;TZID=Europe/Berlin:20260620T120000
DTSTAMP:20260422T150755
CREATED:20260206T124643Z
LAST-MODIFIED:20260206T124643Z
UID:10001875-1781946000-1781956800@stellacanis.de
SUMMARY:Samstagstrail
DESCRIPTION:Der Veranstaltungsort wird über den Menüpunkt “Treffpunkte” bekannt gegeben (4 Tage vor dem Termin). \nEs gelten unsere allgemeinen Geschäftsbedingungen (AGB).
URL:https://stellacanis.de/event/samstagstrail-71/
CATEGORIES:Gruppentrails,SamstagMorgen
ATTACH;FMTTYPE=image/jpeg:https://stellacanis.de/wp-content/uploads/2023/07/cropped-CanisMajor-e1681226102726.jpg
ORGANIZER;CN="Gaby":MAILTO:gaby@stellacanis.de
END:VEVENT
BEGIN:VEVENT
DTSTART;TZID=Europe/Berlin:20260624T090000
DTEND;TZID=Europe/Berlin:20260624T120000
DTSTAMP:20260422T150755
CREATED:20260206T130039Z
LAST-MODIFIED:20260206T130039Z
UID:10001877-1782291600-1782302400@stellacanis.de
SUMMARY:Mittwochstrail
DESCRIPTION:Der Veranstaltungsort wird über den Menüpunkt “Treffpunkte” bekannt gegeben (4 Tage vor dem Termin). \nEs gelten unsere allgemeinen Geschäftsbedingungen (AGB).
URL:https://stellacanis.de/event/mittwochstrail-107/
CATEGORIES:Gruppentrails,MittwochMorgen
ATTACH;FMTTYPE=image/jpeg:https://stellacanis.de/wp-content/uploads/2023/07/cropped-cropped-CanisMajor-e1681226102726.jpg
ORGANIZER;CN="Gaby":MAILTO:gaby@stellacanis.de
END:VEVENT
BEGIN:VEVENT
DTSTART;TZID=Europe/Berlin:20260625T160000
DTEND;TZID=Europe/Berlin:20260625T200000
DTSTAMP:20260422T150755
CREATED:20260206T130132Z
LAST-MODIFIED:20260206T130132Z
UID:10001878-1782403200-1782417600@stellacanis.de
SUMMARY:Donnerstagsstrail
DESCRIPTION:Der Veranstaltungsort wird über den Menüpunkt “Treffpunkte” bekannt gegeben (4 Tage vor dem Termin). \nEs gelten unsere allgemeinen Geschäftsbedingungen (AGB).
URL:https://stellacanis.de/event/donnerstagsstrail-98/
CATEGORIES:DonnerstagAbend,Gruppentrails
ATTACH;FMTTYPE=image/jpeg:https://stellacanis.de/wp-content/uploads/2023/07/cropped-CanisMajor-e1681226102726.jpg
ORGANIZER;CN="Gaby":MAILTO:gaby@stellacanis.de
END:VEVENT
END:VCALENDAR