BEGIN:VCALENDAR
VERSION:2.0
PRODID:-//StellaCANIS - ECPv6.15.20//NONSGML v1.0//EN
CALSCALE:GREGORIAN
METHOD:PUBLISH
X-WR-CALNAME:StellaCANIS
X-ORIGINAL-URL:https://stellacanis.de
X-WR-CALDESC:Veranstaltungen für StellaCANIS
REFRESH-INTERVAL;VALUE=DURATION:PT1H
X-Robots-Tag:noindex
X-PUBLISHED-TTL:PT1H
BEGIN:VTIMEZONE
TZID:Europe/Berlin
BEGIN:DAYLIGHT
TZOFFSETFROM:+0100
TZOFFSETTO:+0200
TZNAME:CEST
DTSTART:20250330T010000
END:DAYLIGHT
BEGIN:STANDARD
TZOFFSETFROM:+0200
TZOFFSETTO:+0100
TZNAME:CET
DTSTART:20251026T010000
END:STANDARD
BEGIN:DAYLIGHT
TZOFFSETFROM:+0100
TZOFFSETTO:+0200
TZNAME:CEST
DTSTART:20260329T010000
END:DAYLIGHT
BEGIN:STANDARD
TZOFFSETFROM:+0200
TZOFFSETTO:+0100
TZNAME:CET
DTSTART:20261025T010000
END:STANDARD
BEGIN:DAYLIGHT
TZOFFSETFROM:+0100
TZOFFSETTO:+0200
TZNAME:CEST
DTSTART:20270328T010000
END:DAYLIGHT
BEGIN:STANDARD
TZOFFSETFROM:+0200
TZOFFSETTO:+0100
TZNAME:CET
DTSTART:20271031T010000
END:STANDARD
END:VTIMEZONE
BEGIN:VEVENT
DTSTART;TZID=Europe/Berlin:20260423T180000
DTEND;TZID=Europe/Berlin:20260423T200000
DTSTAMP:20260421T142905
CREATED:20260206T112303Z
LAST-MODIFIED:20260419T181709Z
UID:10001837-1776967200-1776974400@stellacanis.de
SUMMARY:Donnerstagsstrail
DESCRIPTION:Der Veranstaltungsort wird über den Menüpunkt “Treffpunkte” bekannt gegeben (4 Tage vor dem Termin). \nEs gelten unsere allgemeinen Geschäftsbedingungen (AGB).
URL:https://stellacanis.de/event/donnerstagsstrail-92/
CATEGORIES:DonnerstagAbend,Gruppentrails
ATTACH;FMTTYPE=image/jpeg:https://stellacanis.de/wp-content/uploads/2023/07/cropped-CanisMajor-e1681226102726.jpg
ORGANIZER;CN="Gaby":MAILTO:gaby@stellacanis.de
END:VEVENT
BEGIN:VEVENT
DTSTART;TZID=Europe/Berlin:20260424T180000
DTEND;TZID=Europe/Berlin:20260424T200000
DTSTAMP:20260421T142905
CREATED:20260206T112342Z
LAST-MODIFIED:20260419T181724Z
UID:10001838-1777053600-1777060800@stellacanis.de
SUMMARY:Freitagstrail
DESCRIPTION:Der Veranstaltungsort wird über den Menüpunkt “Treffpunkte” bekannt gegeben (4 Tage vor dem Termin). \nEs gelten unsere allgemeinen Geschäftsbedingungen (AGB).
URL:https://stellacanis.de/event/freitagstrail-53/
CATEGORIES:Freitagstrail,Gruppentrails
ATTACH;FMTTYPE=image/jpeg:https://stellacanis.de/wp-content/uploads/2023/07/cropped-CanisMajor-e1681226102726.jpg
ORGANIZER;CN="Gaby":MAILTO:gaby@stellacanis.de
END:VEVENT
BEGIN:VEVENT
DTSTART;TZID=Europe/Berlin:20260425T090000
DTEND;TZID=Europe/Berlin:20260425T120000
DTSTAMP:20260421T142905
CREATED:20260206T112428Z
LAST-MODIFIED:20260206T112428Z
UID:10001839-1777107600-1777118400@stellacanis.de
SUMMARY:Samstagstrail
DESCRIPTION:Der Veranstaltungsort wird über den Menüpunkt “Treffpunkte” bekannt gegeben (4 Tage vor dem Termin). \nEs gelten unsere allgemeinen Geschäftsbedingungen (AGB).
URL:https://stellacanis.de/event/samstagstrail-65/
CATEGORIES:Gruppentrails,SamstagMorgen
ATTACH;FMTTYPE=image/jpeg:https://stellacanis.de/wp-content/uploads/2023/07/cropped-CanisMajor-e1681226102726.jpg
ORGANIZER;CN="Gaby":MAILTO:gaby@stellacanis.de
END:VEVENT
BEGIN:VEVENT
DTSTART;TZID=Europe/Berlin:20260425T130000
DTEND;TZID=Europe/Berlin:20260425T160000
DTSTAMP:20260421T142905
CREATED:20260206T112619Z
LAST-MODIFIED:20260206T112619Z
UID:10001840-1777122000-1777132800@stellacanis.de
SUMMARY:Samstagstrail-Beginner
DESCRIPTION:Der Veranstaltungsort wird über den Menüpunkt “Treffpunkte” bekannt gegeben (4 Tage vor dem Termin). \nEs gelten die allgemeinen Geschäftsbedingungen (AGB). \n 
URL:https://stellacanis.de/event/samstagstrail-beginner-9/
CATEGORIES:Gruppentrails,Samstag-Beginner
ATTACH;FMTTYPE=image/png:https://stellacanis.de/wp-content/uploads/2026/01/Beginner-3.png
ORGANIZER;CN="Gaby":MAILTO:gaby@stellacanis.de
END:VEVENT
BEGIN:VEVENT
DTSTART;TZID=Europe/Berlin:20260426T100000
DTEND;TZID=Europe/Berlin:20260426T140000
DTSTAMP:20260421T142905
CREATED:20251201T185607Z
LAST-MODIFIED:20251201T185607Z
UID:10001794-1777197600-1777212000@stellacanis.de
SUMMARY:City-Trail
DESCRIPTION:Wir trailen in Darmstadt! Ob im Parkhaus\, ob Indoor oder Outdoor\, ob im Luisencenter oder rund um den langen Langen-Ludwig – jeder Trail ist ein Abenteuer!\nDiese Veranstaltung richtet sich an erfahrene Teams (mind. B1).\nJedes Team erhält 2 Trails; Dauer ca. 3 Stunden; Preis: 65\,00 EUR \nDer genauer Treffpunkt wird über den Menüpunkt “Treffpunkte” bekannt gegeben (4 Tage vor dem Termin).
URL:https://stellacanis.de/event/city-trail-2/
CATEGORIES:City-Trail,Spezielle Trails
ATTACH;FMTTYPE=image/jpeg:https://stellacanis.de/wp-content/uploads/2025/10/Langer-Ludwig.jpg
ORGANIZER;CN="Gaby":MAILTO:gaby@stellacanis.de
END:VEVENT
BEGIN:VEVENT
DTSTART;TZID=Europe/Berlin:20260429T090000
DTEND;TZID=Europe/Berlin:20260429T120000
DTSTAMP:20260421T142905
CREATED:20260206T112009Z
LAST-MODIFIED:20260206T112009Z
UID:10001836-1777453200-1777464000@stellacanis.de
SUMMARY:Mittwochstrail
DESCRIPTION:Der Veranstaltungsort wird über den Menüpunkt “Treffpunkte” bekannt gegeben (4 Tage vor dem Termin). \nEs gelten unsere allgemeinen Geschäftsbedingungen (AGB).
URL:https://stellacanis.de/event/mittwochstrail-101/
CATEGORIES:Gruppentrails,MittwochMorgen
ATTACH;FMTTYPE=image/jpeg:https://stellacanis.de/wp-content/uploads/2023/07/cropped-cropped-CanisMajor-e1681226102726.jpg
ORGANIZER;CN="Gaby":MAILTO:gaby@stellacanis.de
END:VEVENT
BEGIN:VEVENT
DTSTART;TZID=Europe/Berlin:20260430T150000
DTEND;TZID=Europe/Berlin:20260430T190000
DTSTAMP:20260421T142905
CREATED:20260206T115950Z
LAST-MODIFIED:20260206T115950Z
UID:10001843-1777561200-1777575600@stellacanis.de
SUMMARY:Donnerstagsstrail
DESCRIPTION:Der Veranstaltungsort wird über den Menüpunkt “Treffpunkte” bekannt gegeben (4 Tage vor dem Termin). \nEs gelten unsere allgemeinen Geschäftsbedingungen (AGB).
URL:https://stellacanis.de/event/donnerstagsstrail-93/
CATEGORIES:DonnerstagAbend,Gruppentrails
ATTACH;FMTTYPE=image/jpeg:https://stellacanis.de/wp-content/uploads/2023/07/cropped-CanisMajor-e1681226102726.jpg
ORGANIZER;CN="Gaby":MAILTO:gaby@stellacanis.de
END:VEVENT
END:VCALENDAR